BEGIN:VCALENDAR
PRODID:NingEventWidget-v1
VERSION:2.0
METHOD:PUBLISH
BEGIN:VTIMEZONE
TZID:America/Los_Angeles
X-LIC-LOCATION:America/Los_Angeles
BEGIN:DAYLIGHT
TZOFFSETFROM:-0800
TZOFFSETTO:-0700
TZNAME:PDT
DTSTART:19700308T020000
RRULE:FREQ=YEARLY;BYMONTH=3;BYDAY=2SU
END:DAYLIGHT
BEGIN:STANDARD
TZOFFSETFROM:-0700
TZOFFSETTO:-0800
TZNAME:PST
DTSTART:19701101T020000
RRULE:FREQ=YEARLY;BYMONTH=11;BYDAY=1SU
END:STANDARD
END:VTIMEZONE
BEGIN:VEVENT
UID:1464587:Event:652218
DTSTAMP:20260420T093723Z
SUMMARY:The Future of Hip-Hop: America's Newest Indigenous Art
DESCRIPTION:\nSATURDAY, AUG 13\nThe Future of Hip-Hop: America's Newes
 t Indigenous Art\nJoin us for an evening of evolution in Hip Hop throu
 gh Innovation & Disruption\n\nPresented by Mik Nawooj + Hip Hop For Ch
 ange\n\n@ Impact Hub, Oakland\nFREE EVENT. All Ages.\n>> BUY TICKETS\n
 \nOn Saturday August 13th, at Impact Hub Oakland, a group of like mind
 ed Hip-Hop practitioners gather to share their crafts and discuss the 
 potential future of Hip-Hop as a whole. Hip-Hop, as we know isn’t ju
 st about rhyming but also includes B boying, Graffiti, and DJing.\nThe
  participants of this TED style conference are; the music director of 
 Ensemble Mik Nawooj, JooWan Kim, executive director of Hip Hop for Cha
 nge, Khafre Jay, Davey D of the acclaimed Hip-Hop/activist radio show,
  Hard Knock Radio - 94.1 (KPFA), Graffiti legend, Ernest Doty, all fem
 ale Hip-Hop dance troupe, Mix'd Ingrdnts Dance Company, the Turf dance
  greats, TURFinc, Damian Madray of the experiential art series, TheGli
 nt, and nationally acclaimed soul singer, Martin Luther McCoy.\nAmong 
 these heavy weights presenting their thoughts, arts, and pondering the
  future direction of Hip-Hop, the presenters, Ensemble Mik Nawooj and 
 Hip-Hop For Change, firmly believe that the current portrayal of Hip-H
 op from the mass media isn’t the essence of it all.\nThis event is s
 ponsored by Akonadi Foundation, Hard Knock Radio (KPFA), and The City 
 of Oakland.\n\nFor more information visit http://trueskool.com/events/
 the-future-of-hip-hop-america-s-newest-indigenous-art
DTSTART;TZID=America/Los_Angeles:20160813T200000
DTEND;TZID=America/Los_Angeles:20160814T000000
CATEGORIES:"bay area", oakland
LOCATION:Impact Hub, Oakland
WEBSITE:https://www.eventbrite.com/e/the-future-of-hip-hop-americas-ne
 west-indigenous-art-tickets-3475275643
URL:https://www.eventbrite.com/e/the-future-of-hip-hop-americas-newest
 -indigenous-art-tickets-3475275643
CONTACT:
ORGANIZER:Mik Nawooj Ensemble + Hip Hop For Change
ATTACH;FMTTYPE="image/jpeg":http://storage.ning.com/topology/rest/1.0/
 file/get/2247989839?profile=original
ATTENDEE;ROLE=REQ-PARTICIPANT;PARTSTAT=ACCEPTED;RSVP=TRUE;CN="Editor's
  Pick":http://trueskool.com/profile/RentheVinylArchaeologist
END:VEVENT
END:VCALENDAR
