BEGIN:VCALENDAR
PRODID:NingEventWidget-v1
VERSION:2.0
METHOD:PUBLISH
BEGIN:VTIMEZONE
TZID:America/Los_Angeles
X-LIC-LOCATION:America/Los_Angeles
BEGIN:DAYLIGHT
TZOFFSETFROM:-0800
TZOFFSETTO:-0700
TZNAME:PDT
DTSTART:19700308T020000
RRULE:FREQ=YEARLY;BYMONTH=3;BYDAY=2SU
END:DAYLIGHT
BEGIN:STANDARD
TZOFFSETFROM:-0700
TZOFFSETTO:-0800
TZNAME:PST
DTSTART:19701101T020000
RRULE:FREQ=YEARLY;BYMONTH=11;BYDAY=1SU
END:STANDARD
END:VTIMEZONE
BEGIN:VEVENT
UID:1464587:Event:647110
DTSTAMP:20260420T165653Z
SUMMARY:The Field of Haze ft. Pepper, The Green, JBoog, Zion I, plus m
 any more
DESCRIPTION:\nThe Field of Haze announces it's final acts added to the
  April 16, 2016 music and lifestyle festival, being held at the Field 
 of Dreams Ranch in Oroville, California. The event is held in celebrat
 ion of culture, friendship, live music and education in cannabis and t
 he 420-movement. The final artists to be announced are a captivating c
 ollective of crowd pleasing fest-goers favorites, to include high ener
 gy party-rockin' hip-hop MC, Zion I and Sacramento reggae-rooted hip-h
 op artist J Ras with IrieFuse. Synrgy; a popular Flagstaff, Arizona ba
 sed reggae-rock touring band will also perform, along with Stay Positi
 ve Sound, who will be DJ'ing up the good vibes. The lineups also inclu
 des reggae-rock acts, Pepper, The Green, JBoog, Through The Roots, Thr
 ive and Arden Park Roots, as well as up and comers Darenots, Simple Cr
 eation and Bad Neighborz. Founder of Field of Haze and Monser Presents
 , Jeff Monser is a veteran festival producer, founding other prominent
  festivals as California Roots, California Roots Carolina Sessions and
  most recently Dry Diggings. \"The festival is coming together even be
 tter than originally anticipated. I have a great team of people who ar
 e working diligently to bring this festival to life and it's all worki
 ng out great. This festival, in particular is important to me, as cann
 abis is a real part of my world and our culture. I believe in its heal
 th benefits and am happy to support the movement through this event, w
 hich will provide speakers, education, good people, great music and on
 e kick ass time. I couldn't be happier about it,\" said Monser. The fe
 stival site, Field of Dreams Ranch is a serene property, filled with r
 olling mountains and streams, with distant shaded Bigleaf Maples and C
 alifornia Buckeye trees. The event will house some of the most trendin
 g reggae-rock acts, commercial and artisan vendors, a palate-pleasing 
 Food Court, with vegan and gluten free options, craft brews in the \"B
 rewing Knowledge Zone,\" provided by Lagunitas Brewing Company and Alt
 amont Beer Works - for 21 and over patrons, as well as a VIP section f
 or special access and privileges. Additionally, the festival with feat
 ure a large 18 and over 215 patient zone (for current medical marijuan
 a card) and have speakers, educators and cannabis products for sale.\n
 \nThe all age event, Field of Haze Music and Lifestyle Festival will o
 pen its doors at 10:00am on April 16, 2016 and close at 11:00pm. The f
 estival is located at: 1534 O'Neal Road, in Oroville, California. Admi
 ssion to the festival ranges from $30-$100, with parking fees set at $
 10 per car. The official hashtags of the events are #FieldOfHaze and #
 CaliHaze. More information and ticket purchasing can be found at: Fie
 ldOfHaze.com\n\nFor more information visit http://trueskool.com/events
 /the-field-of-haze-ft-pepper-the-green-jboog-zion-i-plus-many-more
DTSTART;TZID=America/Los_Angeles:20160416T200000
DTEND;TZID=America/Los_Angeles:20160417T190000
CATEGORIES:"bay area", oroville
LOCATION:Field of Dreams Ranch in Oroville, California
WEBSITE:http://www.FieldOfHaze.com
URL:http://www.FieldOfHaze.com
CONTACT:
ORGANIZER;CN="Editor's Pick":http://trueskool.com/profile/RentheVinylA
 rchaeologist
ATTACH;FMTTYPE="image/jpeg":http://storage.ning.com/topology/rest/1.0/
 file/get/2247987992?profile=original
ATTENDEE;ROLE=REQ-PARTICIPANT;PARTSTAT=ACCEPTED;RSVP=TRUE;CN="Editor's
  Pick":http://trueskool.com/profile/RentheVinylArchaeologist
END:VEVENT
END:VCALENDAR
