BEGIN:VCALENDAR
PRODID:NingEventWidget-v1
VERSION:2.0
METHOD:PUBLISH
BEGIN:VTIMEZONE
TZID:America/Los_Angeles
X-LIC-LOCATION:America/Los_Angeles
BEGIN:DAYLIGHT
TZOFFSETFROM:-0800
TZOFFSETTO:-0700
TZNAME:PDT
DTSTART:19700308T020000
RRULE:FREQ=YEARLY;BYMONTH=3;BYDAY=2SU
END:DAYLIGHT
BEGIN:STANDARD
TZOFFSETFROM:-0700
TZOFFSETTO:-0800
TZNAME:PST
DTSTART:19701101T020000
RRULE:FREQ=YEARLY;BYMONTH=11;BYDAY=1SU
END:STANDARD
END:VTIMEZONE
BEGIN:VEVENT
UID:1464587:Event:624704
DTSTAMP:20260421T053951Z
SUMMARY:The Essence ft Mr Ed Lover
DESCRIPTION:Supabad Entertainment Presents:\nÂ \nTHE ESSENCE ( A Day P
 arty Musical Journey ) Â \nÂ \nFt a LIVE Dj Set byÂ \nÂ \nMR ED LOVERÂ
  ( Yo MTV Raps )\nÂ \nJoin us as we explore 'THE ESSENCE' of Ol Skool 
 music with our special guest djÂ Mr Ed Lover, as he Â takes you back Y
 o MTV Raps style with a classic Hip Hop dj set that we are sure you wi
 ll enjoy. Get Your Early Bird Tickets Now before the price goes up.\nÂ
  \nAlso Ft: Pos Red & Supreme in the Mix\n\nÂ \nÂ 111 Minna GalleryÂ \
 nÂ \n111 Minna St San FranciscoÂ \nÂ \nSunday April 19th\nÂ \n2pm-8pm\
 nÂ \n21 & Over\nÂ \nÂ \nSTANDING ROOM ONLY\nÂ \nNO REFUNDS\n\nFor more
  information visit http://trueskool.com/events/the-essence-ft-mr-ed-lo
 ver
DTSTART;TZID=America/Los_Angeles:20150419T140000
DTEND;TZID=America/Los_Angeles:20150419T200000
CATEGORIES:111, minna, gallery, hip, hop, day, party, san, francisco, 
 dj, ed, lover
LOCATION:111 Minna
WEBSITE:http://www.eventbrite.com/e/the-essence-ft-ed-lover-tickets-16
 245966122?aff=ebapi
URL:http://www.eventbrite.com/e/the-essence-ft-ed-lover-tickets-162459
 66122?aff=ebapi
CONTACT:
ORGANIZER;CN="Supabad Entertainment":http://trueskool.com/profile/Supa
 badEnt
ATTACH;FMTTYPE="image/jpeg":http://storage.ning.com/topology/rest/1.0/
 file/get/2247976911?profile=original
ATTENDEE;ROLE=REQ-PARTICIPANT;PARTSTAT=ACCEPTED;RSVP=TRUE;CN="Supabad 
 Entertainment":http://trueskool.com/profile/SupabadEnt
END:VEVENT
END:VCALENDAR
