BEGIN:VCALENDAR
PRODID:NingEventWidget-v1
VERSION:2.0
METHOD:PUBLISH
BEGIN:VTIMEZONE
TZID:America/Los_Angeles
X-LIC-LOCATION:America/Los_Angeles
BEGIN:DAYLIGHT
TZOFFSETFROM:-0800
TZOFFSETTO:-0700
TZNAME:PDT
DTSTART:19700308T020000
RRULE:FREQ=YEARLY;BYMONTH=3;BYDAY=2SU
END:DAYLIGHT
BEGIN:STANDARD
TZOFFSETFROM:-0700
TZOFFSETTO:-0800
TZNAME:PST
DTSTART:19701101T020000
RRULE:FREQ=YEARLY;BYMONTH=11;BYDAY=1SU
END:STANDARD
END:VTIMEZONE
BEGIN:VEVENT
UID:1464587:Event:653737
DTSTAMP:20260420T151940Z
SUMMARY:The Do-Over Block Party
DESCRIPTION:Sunday September 18th, 2016 21+. Noon-7pm. Rain or shine.\
 nMighty's Block\nUtah Street (between 15th and Alameda) \nSan Francisc
 o, CA 94103\n\nFor more information visit http://trueskool.com/events/
 the-do-over-block-party
DTSTART;TZID=America/Los_Angeles:20160918T120000
DTEND;TZID=America/Los_Angeles:20160918T190000
CATEGORIES:the, do-over, block, party
LOCATION:Mighty's Block
WEBSITE:https://upallnight.us/events/the-do-over-block-party-sep-18-20
 16/orders/new
URL:https://upallnight.us/events/the-do-over-block-party-sep-18-2016/o
 rders/new
CONTACT:
ORGANIZER;CN="Editor's Pick":http://trueskool.com/profile/RentheVinylA
 rchaeologist
ATTACH;FMTTYPE="image/jpeg":http://storage.ning.com/topology/rest/1.0/
 file/get/2247991081?profile=original
ATTENDEE;ROLE=REQ-PARTICIPANT;PARTSTAT=ACCEPTED;RSVP=TRUE;CN="Editor's
  Pick":http://trueskool.com/profile/RentheVinylArchaeologist
END:VEVENT
END:VCALENDAR
