BEGIN:VCALENDAR
PRODID:NingEventWidget-v1
VERSION:2.0
METHOD:PUBLISH
BEGIN:VTIMEZONE
TZID:America/Los_Angeles
X-LIC-LOCATION:America/Los_Angeles
BEGIN:DAYLIGHT
TZOFFSETFROM:-0800
TZOFFSETTO:-0700
TZNAME:PDT
DTSTART:19700308T020000
RRULE:FREQ=YEARLY;BYMONTH=3;BYDAY=2SU
END:DAYLIGHT
BEGIN:STANDARD
TZOFFSETFROM:-0700
TZOFFSETTO:-0800
TZNAME:PST
DTSTART:19701101T020000
RRULE:FREQ=YEARLY;BYMONTH=11;BYDAY=1SU
END:STANDARD
END:VTIMEZONE
BEGIN:VEVENT
UID:1464587:Event:630461
DTSTAMP:20260421T115138Z
SUMMARY:The Coup (WIN TICKETS)
DESCRIPTION: ENTER TO WIN A PAIR OF TICKETS. WINNER WILL BE DRAWN RAND
 OMLY AND ANNOUNCED 2 DAYS PRIOR TO EVENT.  \n\nFRIDAY JULY 17\nTHE COU
 P\nBells Atlas, Ren the Vinyl Archaeologist\n\n@ The New Parish\n1743
  San Pablo Ave (at 18th St) Oakland, CA 94612\n9:00 PM (Doors open at
  8:00 PM)18 & OVERUNDER 21 MUST BUY $5 NON-ALCOHOLIC DRINK TICKET AT 
 THE DOOR.\n[ MORE INFO/PURCHASE TICKETS ]\n$20.00 Advance $25.00 Da
 y of Show\n\nFor more information visit http://trueskool.com/events/th
 e-coup-4
DTSTART;TZID=America/Los_Angeles:20150717T200000
DTEND;TZID=America/Los_Angeles:20150717T230000
CATEGORIES:"bay area", oakland
LOCATION:The New Parish, Oakland
WEBSITE:http://thenewparish.com/show.cfm?id=205235&cart
URL:http://thenewparish.com/show.cfm?id=205235&cart
CONTACT:
ORGANIZER:New Parish
ATTACH;FMTTYPE="image/jpeg":http://storage.ning.com/topology/rest/1.0/
 file/get/2247976663?profile=original
ATTENDEE;ROLE=REQ-PARTICIPANT;PARTSTAT=ACCEPTED;RSVP=TRUE;CN="Brianna 
 M. Sylvers":http://trueskool.com/profile/BriannaMSylvers
ATTENDEE;ROLE=REQ-PARTICIPANT;PARTSTAT=ACCEPTED;RSVP=TRUE;CN=Opine:htt
 p://trueskool.com/profile/DanielOpine
ATTENDEE;ROLE=REQ-PARTICIPANT;PARTSTAT=ACCEPTED;RSVP=TRUE;CN="Editor's
  Pick":http://trueskool.com/profile/RentheVinylArchaeologist
END:VEVENT
END:VCALENDAR
