BEGIN:VCALENDAR
PRODID:NingEventWidget-v1
VERSION:2.0
METHOD:PUBLISH
BEGIN:VTIMEZONE
TZID:America/Los_Angeles
X-LIC-LOCATION:America/Los_Angeles
BEGIN:DAYLIGHT
TZOFFSETFROM:-0800
TZOFFSETTO:-0700
TZNAME:PDT
DTSTART:19700308T020000
RRULE:FREQ=YEARLY;BYMONTH=3;BYDAY=2SU
END:DAYLIGHT
BEGIN:STANDARD
TZOFFSETFROM:-0700
TZOFFSETTO:-0800
TZNAME:PST
DTSTART:19701101T020000
RRULE:FREQ=YEARLY;BYMONTH=11;BYDAY=1SU
END:STANDARD
END:VTIMEZONE
BEGIN:VEVENT
UID:1464587:Event:92337
DTSTAMP:20260420T164532Z
SUMMARY:The Coup
DESCRIPTION:Friday, August 19\nThe Coup\n\nThe Independent\nSan Franci
 sco, CA\nshow 9:00PM\n[ BUY TICKETS ]\n\n\nFor more information visit 
 http://trueskool.com/events/the-coup-1
DTSTART;TZID=America/Los_Angeles:20110819T210000
DTEND;TZID=America/Los_Angeles:20110820T230000
CATEGORIES:"bay area", "san francisco", ca
LOCATION:Independent, San Francisco, CA
WEBSITE:http://www.ticketfly.com/purchase/event/50435
URL:http://www.ticketfly.com/purchase/event/50435
CONTACT:
ORGANIZER:Another Planet
ATTACH;FMTTYPE="image/jpeg":http://storage.ning.com/topology/rest/1.0/
 file/get/2247871525?profile=original
ATTENDEE;ROLE=REQ-PARTICIPANT;PARTSTAT=ACCEPTED;RSVP=TRUE;CN="Ren the 
 Vinyl Archaeologist":http://trueskool.com/profile/xh51jvilojur
END:VEVENT
END:VCALENDAR
