BEGIN:VCALENDAR
PRODID:NingEventWidget-v1
VERSION:2.0
METHOD:PUBLISH
BEGIN:VTIMEZONE
TZID:America/Los_Angeles
X-LIC-LOCATION:America/Los_Angeles
BEGIN:DAYLIGHT
TZOFFSETFROM:-0800
TZOFFSETTO:-0700
TZNAME:PDT
DTSTART:19700308T020000
RRULE:FREQ=YEARLY;BYMONTH=3;BYDAY=2SU
END:DAYLIGHT
BEGIN:STANDARD
TZOFFSETFROM:-0700
TZOFFSETTO:-0800
TZNAME:PST
DTSTART:19701101T020000
RRULE:FREQ=YEARLY;BYMONTH=11;BYDAY=1SU
END:STANDARD
END:VTIMEZONE
BEGIN:VEVENT
UID:1464587:Event:625160
DTSTAMP:20260420T183435Z
SUMMARY:The Chapel Presents Afrofunk Experience with the Broun Fellini
 s
DESCRIPTION:\"Original Music by the Original People\"\nAfrofunk Experi
 ence\nThese purveyors of original Afrobeat, Reggae and Funk music are 
 dance floor veterans, with current and former members of Spearhead, Af
 rolicious, Katdelic and Broun Fellinis among them. They will get you m
 oving with their funky rhythms, draw you in with their soulful singing
 , and carry you away with their spirit-filled solos.\nWinners of the N
 AACP Image Award for Outstanding World Music Album, 2010 (W/ Sila and 
 the Afrofunk Experience) for Black President Guitarist/Singer David Ja
 mes (Spearhead, The Coup, Beth Custer) brings his sinewy style to coun
 ter the funk-metal stylings of lead guitarist Ken House (H.P. Riot). T
 he precise funk-rock drumming of Paul Olipant (Afrolicious, Will Magid
  Trio) with Wendell Rand's (Afrolicious, Tracorum, Youssoupha Sidibe) 
 muscular dance grooves keep the band tight, while saxophonist David Bo
 yce (Broun Fellinis, The Supplicants) and trombonist Alan Williams (Ma
 nicato, Katdelic) wail, their horns producing a sound that encompasses
  outward-bound jazz, classic reggae, afrobeat and R&B. Percussionist B
 . Lee thickens and adds flavor to the mix, and on top of all this, rec
 ent addition Sandy House adds her sultry voice and powerful stage pres
 ence.\nBroun Fellinis\nFormed 1991 in by Kevin Carnes,drums/electronic
 s,David Boyce,tenor/soprano saxophone,efx,spoken word,and Kirk Peterso
 n,electric bass.The Broun Fellinis play a soulful and aggressive style
  of post modern improvised/composed jazzical sound that is informed by
  dub,afro beat,abstract funk,drumnbass,hardcore punk,and film soundtra
 cks. Broun Fellinis have toured with Ben Harper and performed The Last
  Poets,Meshell Ndegeocello,Living Colour,Erykah Badu,the Roots,Mos Def
 ,Gil Scott-Heron,Zakir Hussain,Bernie Worrell,George Clinton,Jimmy Smi
 th, and more.  “the Broun Fellinis glide easily and often from frenz
 ied excursions to plaintive exotic melodies to hypnotic grooves.” Do
 wnbeat 10/99\n\n\n\n\n\n\nFacebook link: https://www.facebook.com/even
 ts/1408758299423635/\n\nFor more information visit http://trueskool.co
 m/events/the-chapel-presents-afrofunk-experience-with-the-broun-fellin
 is
DTSTART;TZID=America/Los_Angeles:20150410T200000
DTEND;TZID=America/Los_Angeles:20150411T020000
CATEGORIES:the, chapel
LOCATION:The Chapel, San Francisco, CA
WEBSITE:https://www.ticketfly.com/purchase/event/775827?__utma=1.15263
 1298.1426612837.1426612837.1426612837.1&__utmb=1.2.10.1426612837&__utm
 c=1&__utmx=-&__utmz=1.1426612837.1.1.utmcsr=l.facebook.com|utmccn=%28r
 eferral%29|utmcmd=referral|utmcct=/l.php&__utmv=-&__utmk=90422426
URL:https://www.ticketfly.com/purchase/event/775827?__utma=1.152631298
 .1426612837.1426612837.1426612837.1&__utmb=1.2.10.1426612837&__utmc=1&
 __utmx=-&__utmz=1.1426612837.1.1.utmcsr=l.facebook.com|utmccn=%28refer
 ral%29|utmcmd=referral|utmcct=/l.php&__utmv=-&__utmk=90422426
CONTACT:415-551-5157
ORGANIZER;CN="Makaela Susnow":http://trueskool.com/profile/MakaelaSusn
 ow
ATTACH;FMTTYPE="image/jpeg":http://storage.ning.com/topology/rest/1.0/
 file/get/2247975623?profile=original
ATTENDEE;ROLE=REQ-PARTICIPANT;PARTSTAT=ACCEPTED;RSVP=TRUE;CN="Makaela 
 Susnow":http://trueskool.com/profile/MakaelaSusnow
END:VEVENT
END:VCALENDAR
