BEGIN:VCALENDAR
PRODID:NingEventWidget-v1
VERSION:2.0
METHOD:PUBLISH
BEGIN:VTIMEZONE
TZID:America/Los_Angeles
X-LIC-LOCATION:America/Los_Angeles
BEGIN:DAYLIGHT
TZOFFSETFROM:-0800
TZOFFSETTO:-0700
TZNAME:PDT
DTSTART:19700308T020000
RRULE:FREQ=YEARLY;BYMONTH=3;BYDAY=2SU
END:DAYLIGHT
BEGIN:STANDARD
TZOFFSETFROM:-0700
TZOFFSETTO:-0800
TZNAME:PST
DTSTART:19701101T020000
RRULE:FREQ=YEARLY;BYMONTH=11;BYDAY=1SU
END:STANDARD
END:VTIMEZONE
BEGIN:VEVENT
UID:1464587:Event:333075
DTSTAMP:20260421T035056Z
SUMMARY:The Chapel Presents Afrofunk Experience & Broun Fellinis with 
 Special Guest  the Anita Lofton Project
DESCRIPTION:Two premier Bay Area ensembles, Afrofunk Experience and 
 Broun Fellinis! Original music from Original people. Plus special gues
 ts The Anita Lofton ProjectFriday, April 4, 2014 9pm $15.00\nTHE CHAP
 EL777 Valencia St. SFAFROFUNK EXPERIENCE, BROUN FELLINIS, ANITA LOFTON
  PROJECT\"BLACK TO THE MISSION!!!\"Three San Francisco bands, which in
 clude REAL LIFE SAN FRANCISCO NATIVES(!) as well as long-time resident
 s, will be gathering their forces for a Programme of Diverse Black Mus
 ic at The Chapel in San Francisco's Mission District on Friday, April 
 4th.In this time of ever-gentrifying neighborhoods and stories of arti
 sts and others being forced to leave the area, the Mission has stood a
 s the exemplar for re-fashioning a commmunity. It stands head and shou
 lders above the rest of the City when it comes to soaring rents, rapid
  changeover of area demographics, and many, many, many new restaurants
 . Especially Valencia Street. Add to this general gentrification the 
 fact that, according to the 2010 census, African-Americans make up 6.1
  percent of the population of S.F. (down from 13.4 in 1970), and, well
 , we can attest that Black music (as performed by Black people) does n
 ot have the same opportunities to be heard as it once may have. Especi
 ally on Valencia Street.Which partly explains why this show is so spec
 ial. It's Black Music of many types. It's on Valencia Street (just up 
 the road from Amnesia.) And the bands consist largely of longtime San 
 Francisco residents and natives who, due to a combination of day-jobs,
  rent control, perseverance, and luck, have managed to hang on, hang i
 n, and continue to create Diverse Black Music.\n\nFor more information
  visit http://trueskool.com/events/the-chapel-presents-afrofunk-experi
 ence-broun-fellinis-with
DTSTART;TZID=America/Los_Angeles:20140404T210000
DTEND;TZID=America/Los_Angeles:20140405T010000
CATEGORIES:san, francisco, the, chapel, afrofunk, experience
LOCATION:The Chapel
WEBSITE:http://www.thechapelsf.com
URL:http://www.thechapelsf.com
CONTACT:
ORGANIZER:Afrofunk Experience
ATTACH;FMTTYPE="image/jpeg":http://storage.ning.com/topology/rest/1.0/
 file/get/2247960826?profile=original
ATTENDEE;ROLE=REQ-PARTICIPANT;PARTSTAT=ACCEPTED;RSVP=TRUE;CN="WenDell 
 Rand":http://trueskool.com/profile/WenDellRand
END:VEVENT
END:VCALENDAR
