BEGIN:VCALENDAR
PRODID:NingEventWidget-v1
VERSION:2.0
METHOD:PUBLISH
BEGIN:VTIMEZONE
TZID:America/Los_Angeles
X-LIC-LOCATION:America/Los_Angeles
BEGIN:DAYLIGHT
TZOFFSETFROM:-0800
TZOFFSETTO:-0700
TZNAME:PDT
DTSTART:19700308T020000
RRULE:FREQ=YEARLY;BYMONTH=3;BYDAY=2SU
END:DAYLIGHT
BEGIN:STANDARD
TZOFFSETFROM:-0700
TZOFFSETTO:-0800
TZNAME:PST
DTSTART:19701101T020000
RRULE:FREQ=YEARLY;BYMONTH=11;BYDAY=1SU
END:STANDARD
END:VTIMEZONE
BEGIN:VEVENT
UID:1464587:Event:688356
DTSTAMP:20260421T012055Z
SUMMARY:The Big Picnic
DESCRIPTION:The Big Picnic, A Benefit and Concert closes out the 82nd 
 Season with a free concert starring R&B legends:\r\nThe Isley Brothers
 \r\n2:00 PM SUNDAY AUGUST 18 FREE CONCERT\r\nSTERN GROVE 19th Ave. & S
 loat Blvd. San Francisco\n\nFor more information visit http://trueskoo
 l.com/events/the-big-picnic
DTSTART;TZID=America/Los_Angeles:20190818T000000
DTEND;TZID=America/Los_Angeles:20190818T235900
CATEGORIES:"bay area", oakland, "san francisco", "san jose", berkeley
LOCATION:STERN GROVE, SAN FRANCISCO
WEBSITE:https://sterngrove.liveimpact.org/li/8239/sevent/evt/home/1099
 85/69
URL:https://sterngrove.liveimpact.org/li/8239/sevent/evt/home/109985/6
 9
CONTACT:
ORGANIZER;CN="Editor's Pick":http://trueskool.com/profile/RentheVinylA
 rchaeologist
ATTACH;FMTTYPE="image/jpeg":https://storage.ning.com/topology/rest/1.0
 /file/get/2864274029?profile=original
ATTENDEE;ROLE=REQ-PARTICIPANT;PARTSTAT=ACCEPTED;RSVP=TRUE;CN="Editor's
  Pick":http://trueskool.com/profile/RentheVinylArchaeologist
END:VEVENT
END:VCALENDAR
