BEGIN:VCALENDAR
PRODID:NingEventWidget-v1
VERSION:2.0
METHOD:PUBLISH
BEGIN:VTIMEZONE
TZID:America/Los_Angeles
X-LIC-LOCATION:America/Los_Angeles
BEGIN:DAYLIGHT
TZOFFSETFROM:-0800
TZOFFSETTO:-0700
TZNAME:PDT
DTSTART:19700308T020000
RRULE:FREQ=YEARLY;BYMONTH=3;BYDAY=2SU
END:DAYLIGHT
BEGIN:STANDARD
TZOFFSETFROM:-0700
TZOFFSETTO:-0800
TZNAME:PST
DTSTART:19701101T020000
RRULE:FREQ=YEARLY;BYMONTH=11;BYDAY=1SU
END:STANDARD
END:VTIMEZONE
BEGIN:VEVENT
UID:1464587:Event:545187
DTSTAMP:20260423T025207Z
SUMMARY:The Bar Exam: Atlanta's Definitive Open-Mic Competition and Sh
 owcase (Atlanta)
DESCRIPTION:\nFEB  \n27\nFRI\n\nApache Cafe Atlanta, GA 08:00 PM\n
 \n  The Bar Exam: Atlanta's Definitive    Open-Mic Competition and 
 Showcase\n\n\n\n\nFor more information visit http://trueskool.com/even
 ts/the-bar-exam-atlanta-s-definitive-open-mic-competition-and-showca
DTSTART;TZID=America/Los_Angeles:20150227T200000
DTEND;TZID=America/Los_Angeles:20150227T230000
CATEGORIES:atlanta, georgia, atl
LOCATION:Apache Cafe, Atlanta
WEBSITE:http://www.ticketmaster.com/partner_redirect?v=UM-1DCVS0o9b579
 7MkGZ8mlpzsAIPVhGrg79hvz6wyPdT_4BpLs2I4MGNYciVn33JW9XVqHUpYKyXY3Wtukxt
 ETO20EiiP67Ajotz3Uypz9JXS-sB-SGxk6hzu0eO-R_liLEydL5LNBrucwUJ3efBA8jWEr
 W63ftPa56jIBgtXs3RlMumoK12VXSSeCCNz2wxd8gkBb2uZjjjAkXRg&eventid=29004E
 42399D7369&artistid=2027370&artistname=The%20Bar%20Exam:%20Atlanta%27s
 %20Definitive%20Open-Mic%20Competition%20and%20Showcase&crosssite=TM_U
 S:2027370:115332
URL:http://www.ticketmaster.com/partner_redirect?v=UM-1DCVS0o9b5797MkG
 Z8mlpzsAIPVhGrg79hvz6wyPdT_4BpLs2I4MGNYciVn33JW9XVqHUpYKyXY3WtukxtETO2
 0EiiP67Ajotz3Uypz9JXS-sB-SGxk6hzu0eO-R_liLEydL5LNBrucwUJ3efBA8jWErW63f
 tPa56jIBgtXs3RlMumoK12VXSSeCCNz2wxd8gkBb2uZjjjAkXRg&eventid=29004E4239
 9D7369&artistid=2027370&artistname=The%20Bar%20Exam:%20Atlanta%27s%20D
 efinitive%20Open-Mic%20Competition%20and%20Showcase&crosssite=TM_US:20
 27370:115332
CONTACT:
ORGANIZER;CN="Editor's Pick":http://trueskool.com/profile/RentheVinylA
 rchaeologist
ATTACH;FMTTYPE="image/jpeg":http://storage.ning.com/topology/rest/1.0/
 file/get/2247973494?profile=original
ATTENDEE;ROLE=REQ-PARTICIPANT;PARTSTAT=ACCEPTED;RSVP=TRUE;CN="Editor's
  Pick":http://trueskool.com/profile/RentheVinylArchaeologist
END:VEVENT
END:VCALENDAR
