BEGIN:VCALENDAR
PRODID:NingEventWidget-v1
VERSION:2.0
METHOD:PUBLISH
BEGIN:VTIMEZONE
TZID:America/Los_Angeles
X-LIC-LOCATION:America/Los_Angeles
BEGIN:DAYLIGHT
TZOFFSETFROM:-0800
TZOFFSETTO:-0700
TZNAME:PDT
DTSTART:19700308T020000
RRULE:FREQ=YEARLY;BYMONTH=3;BYDAY=2SU
END:DAYLIGHT
BEGIN:STANDARD
TZOFFSETFROM:-0700
TZOFFSETTO:-0800
TZNAME:PST
DTSTART:19701101T020000
RRULE:FREQ=YEARLY;BYMONTH=11;BYDAY=1SU
END:STANDARD
END:VTIMEZONE
BEGIN:VEVENT
UID:1464587:Event:627324
DTSTAMP:20260421T151810Z
SUMMARY:THE ART OF RAP FESTIVAL Featuring Ice-T Too Short, DJ Quik, Bo
 ne Thugz-n-Harmony, EPMD, Slick Rick and many more (WIN TICKETS)
DESCRIPTION:ENTER TO WIN A PAIR OF TICKETS. WINNER WILL BE DRAWN RANDO
 MLY AND ANNOUNCED 2 DAYS PRIOR TO EVENT. \n\nSUNDAY, JULY 19TH\nTHE A
 RT OF RAP FESTIVAL\n\nFeaturing:\nIce-TWarren G\nBone Thugs-N-Harmony 
 Afrika Bambaataa Big Daddy Kane Biz Markie Cold Crush Brothers DJ Quik
  Doug E. Fresh Epmd Melle Mel Kool Moe D Kurtis Blow Mack 10 Ras Kass 
 Slick Rick Tha Alkaholiks Too Short Xzibit Busy Bee\nand many more\n S
 HORELINE AMPHITHEATRE, MTN VIEW, CA\n \nAT LIVENATION.COM, WALMART TI
 CKETMASTER KIOSKS AND CHAVEZ SUPERMARKETS (only need say Chavez if you
  are a Bay Area outlet)\n\n\n\nFor more information visit http://trues
 kool.com/events/the-art-of-rap-festival-featuring-ice-t-too-short-dj-q
 uik-bone-th
DTSTART;TZID=America/Los_Angeles:20150719T153000
DTEND;TZID=America/Los_Angeles:20150719T230000
CATEGORIES:"bay area", "mountain view"
LOCATION:Shoreline Amphitheatre, Mountain View
WEBSITE:http://concerts.livenation.com/event/1C004E91CD4267C7
URL:http://concerts.livenation.com/event/1C004E91CD4267C7
CONTACT:
ORGANIZER:Live Nation
ATTACH;FMTTYPE="image/jpeg":http://storage.ning.com/topology/rest/1.0/
 file/get/2247976245?profile=original
ATTENDEE;ROLE=REQ-PARTICIPANT;PARTSTAT=ACCEPTED;RSVP=TRUE;CN="Brianna 
 M. Sylvers":http://trueskool.com/profile/BriannaMSylvers
ATTENDEE;ROLE=REQ-PARTICIPANT;PARTSTAT=ACCEPTED;RSVP=TRUE;CN="m.deep.m
 usic":http://trueskool.com/profile/mdeepmusic
ATTENDEE;ROLE=REQ-PARTICIPANT;PARTSTAT=ACCEPTED;RSVP=TRUE;CN="Michelle
  Cautiverio":http://trueskool.com/profile/MichelleCautiverio
ATTENDEE;ROLE=REQ-PARTICIPANT;PARTSTAT=ACCEPTED;RSVP=TRUE;CN="Frank Vi
 loria":http://trueskool.com/profile/DJILLusive
ATTENDEE;ROLE=REQ-PARTICIPANT;PARTSTAT=ACCEPTED;RSVP=TRUE;CN="Andrea B
 arros":http://trueskool.com/profile/AndreaBarros
ATTENDEE;ROLE=REQ-PARTICIPANT;PARTSTAT=ACCEPTED;RSVP=TRUE;CN="Shayla E
 lliott":http://trueskool.com/profile/ShaylaElliott
ATTENDEE;ROLE=REQ-PARTICIPANT;PARTSTAT=ACCEPTED;RSVP=TRUE;CN="Elisa Bj
 eldanes":http://trueskool.com/profile/ElisaBjeldanes
ATTENDEE;ROLE=REQ-PARTICIPANT;PARTSTAT=ACCEPTED;RSVP=TRUE;CN="Art Barr
 on":http://trueskool.com/profile/ArtBarron593
ATTENDEE;ROLE=REQ-PARTICIPANT;PARTSTAT=ACCEPTED;RSVP=TRUE;CN="Johnny L
 iao":http://trueskool.com/profile/JohnnyLiao
ATTENDEE;ROLE=REQ-PARTICIPANT;PARTSTAT=ACCEPTED;RSVP=TRUE;CN="Donte Ha
 rrison":http://trueskool.com/profile/DonteHarrison
ATTENDEE;ROLE=REQ-PARTICIPANT;PARTSTAT=ACCEPTED;RSVP=TRUE;CN="Editor's
  Pick":http://trueskool.com/profile/RentheVinylArchaeologist
ATTENDEE;ROLE=REQ-PARTICIPANT;PARTSTAT=TENTATIVE;RSVP=TRUE;CN=Kimberly
 :http://trueskool.com/profile/Kimberly
END:VEVENT
END:VCALENDAR
