BEGIN:VCALENDAR
PRODID:NingEventWidget-v1
VERSION:2.0
METHOD:PUBLISH
BEGIN:VTIMEZONE
TZID:America/Los_Angeles
X-LIC-LOCATION:America/Los_Angeles
BEGIN:DAYLIGHT
TZOFFSETFROM:-0800
TZOFFSETTO:-0700
TZNAME:PDT
DTSTART:19700308T020000
RRULE:FREQ=YEARLY;BYMONTH=3;BYDAY=2SU
END:DAYLIGHT
BEGIN:STANDARD
TZOFFSETFROM:-0700
TZOFFSETTO:-0800
TZNAME:PST
DTSTART:19701101T020000
RRULE:FREQ=YEARLY;BYMONTH=11;BYDAY=1SU
END:STANDARD
END:VTIMEZONE
BEGIN:VEVENT
UID:1464587:Event:650781
DTSTAMP:20260420T184324Z
SUMMARY:The Art of Rap feat. Public Enemy, Ice-T, Naughty By Nature, G
 randMaster Melle Mel & Scorpio
DESCRIPTION: ENTER TO WIN A PAIR OF TICKETS. WINNER WILL BE DRAWN RAND
 OMLY AND ANNOUNCED 2 DAYS PRIOR TO EVENT.   \n\nSunday, July 24th\n
 Art Of Rap\n Featuring\nPublic Enemy,\nIce-T,\nNaughty By Nature,\nGra
 ndMaster Melle Mel & Scorpio\n\n@ The Regency Ballroom, San Francisco 
  >> BUY TICKETS\n\n\n\nFor more information visit http://trueskool.com
 /events/the-art-of-rap-feat-public-enemy-ice-t-naughty-by-nature-grand
 mas
DTSTART;TZID=America/Los_Angeles:20160724T190000
DTEND;TZID=America/Los_Angeles:20160724T230000
CATEGORIES:"bay area", "san francisco"
LOCATION:The Regency Ballroom, SF
WEBSITE:http://axs.com/events/310921/public-enemy-ice-t-tickets?cid=wa
 r_artofrap_trueskool
URL:http://axs.com/events/310921/public-enemy-ice-t-tickets?cid=war_ar
 tofrap_trueskool
CONTACT:
ORGANIZER:Goldenvoice
ATTACH;FMTTYPE="image/jpeg":http://storage.ning.com/topology/rest/1.0/
 file/get/2247989729?profile=original
ATTENDEE;ROLE=REQ-PARTICIPANT;PARTSTAT=ACCEPTED;RSVP=TRUE;CN="Editor's
  Pick":http://trueskool.com/profile/RentheVinylArchaeologist
END:VEVENT
END:VCALENDAR
