BEGIN:VCALENDAR
PRODID:NingEventWidget-v1
VERSION:2.0
METHOD:PUBLISH
BEGIN:VTIMEZONE
TZID:America/Los_Angeles
X-LIC-LOCATION:America/Los_Angeles
BEGIN:DAYLIGHT
TZOFFSETFROM:-0800
TZOFFSETTO:-0700
TZNAME:PDT
DTSTART:19700308T020000
RRULE:FREQ=YEARLY;BYMONTH=3;BYDAY=2SU
END:DAYLIGHT
BEGIN:STANDARD
TZOFFSETFROM:-0700
TZOFFSETTO:-0800
TZNAME:PST
DTSTART:19701101T020000
RRULE:FREQ=YEARLY;BYMONTH=11;BYDAY=1SU
END:STANDARD
END:VTIMEZONE
BEGIN:VEVENT
UID:1464587:Event:332982
DTSTAMP:20260421T021219Z
SUMMARY:ã€“ The AFTERS, ft. GRAMOPHONEDZIE ã€“
DESCRIPTION:It's a kaleidoscope of sound, it is truly underground. Whe
 re music, art & people all come together under one roof, to celebrate 
 & party until the sun starts to rise.Â There will be House & Techno mu
 sic playing in the underground area & HipHop/Breaks VS. Drum&bass/Dub 
 in the Silent Subs room. Oh what's Silent subs youÂ ask? This is an ar
 ea where you get to put on wireless headphones & choose to groove to h
 ip hop or drum&bass.Â â–½ â–½ â–½ ARTIST LINE UP BELOW â–½ â–½ â–½Â ï¹
 ‹ï¹‹ï¹‹ï¹‹ï¹‹ï¹‹ï¹‹ï¹‹ï¹‹ï¹‹ï¹‹ï¹‹ï¹‹ï¹‹ï¹‹ï¹‹ï¹‹ï¹‹ï¹‹ï¹‹ã€“ UNDERGRO
 UND SOUNDS [HOUSE.TECHNO.MINIMAL] ã€“Â GRAMOPHONEDZIE ||Â http://www.g
 ramophonedzie.com/RAHIEM JIHAD||MARIO DUBBZ||SWITCHBLADEÂ FABIAN CAMPO
 S||MR.BRANDON||CODY WHITE Â JACKOLÂ ã€“ SILENT SUBS [HIPHOP / BREAKS] 
 ã€“Â SYCHOSIS||ERIC RIGGSBEE||DJ CHAOS||ANGOSCIAÂ \nã€“ SILENT SUBS [D
 RUM&BASS / DUB] ã€“Â CTJ||AUTOPSY||SPACEKAT||SELF DESTRUKTLIVE PAINTIN
 GS by:Â DREAM TEAM ENT.Â www.facebook.com/dreamteamnightlife\nGallery 
 Art by:Â Rochelle Arucan &Â Fridelyn Fiersteinï¹‹ï¹‹ï¹‹ï¹‹ï¹‹ï¹‹ï¹‹ï¹‹
 ï¹‹ï¹‹ï¹‹ï¹‹ï¹‹ï¹‹ï¹‹ï¹‹ï¹‹ï¹‹ï¹‹ï¹‹ï¹‹âž¥ How we function.21+ bring y
 our ID & no funny business!U.G RULES IN FULL EFFECT!!! In order to get
  the info # the night of, you'll need to get connected with the new ev
 ent page. You'll either be re-invited or you can personal message us f
 or info.info page:https://www.facebook.com/events/715647581812916/?not
 if_t=plan_user_joined\n\nFor more information visit http://trueskool.c
 om/events/the-afters-ft-gramophonedzie
DTSTART;TZID=America/Los_Angeles:20140406T010000
DTEND;TZID=America/Los_Angeles:20140406T060000
CATEGORIES:"bay area", oakland
LOCATION:Oakland
WEBSITE:https://www.facebook.com/events/1405850473005696/1420387141552
 029/?comment_id=1420416958215714&notif_t=like
URL:https://www.facebook.com/events/1405850473005696/1420387141552029/
 ?comment_id=1420416958215714&notif_t=like
CONTACT:
ORGANIZER:The AFTERS
ATTACH;FMTTYPE="image/jpeg":http://storage.ning.com/topology/rest/1.0/
 file/get/2247961432?profile=original
ATTENDEE;ROLE=REQ-PARTICIPANT;PARTSTAT=ACCEPTED;RSVP=TRUE;CN="Fridelyn
  Fierstein":http://trueskool.com/profile/FridelynFierstein
END:VEVENT
END:VCALENDAR
