BEGIN:VCALENDAR
PRODID:NingEventWidget-v1
VERSION:2.0
METHOD:PUBLISH
BEGIN:VTIMEZONE
TZID:America/Los_Angeles
X-LIC-LOCATION:America/Los_Angeles
BEGIN:DAYLIGHT
TZOFFSETFROM:-0800
TZOFFSETTO:-0700
TZNAME:PDT
DTSTART:19700308T020000
RRULE:FREQ=YEARLY;BYMONTH=3;BYDAY=2SU
END:DAYLIGHT
BEGIN:STANDARD
TZOFFSETFROM:-0700
TZOFFSETTO:-0800
TZNAME:PST
DTSTART:19701101T020000
RRULE:FREQ=YEARLY;BYMONTH=11;BYDAY=1SU
END:STANDARD
END:VTIMEZONE
BEGIN:VEVENT
UID:1464587:Event:109415
DTSTAMP:20260421T021722Z
SUMMARY:\"The 45 Sessions\" V.22 'Holidays Edition' W/ special guest D
 J Sake-One
DESCRIPTION:||| \"The 45 Sessions\" V.22 'Holiday Edition' |||----->Fr
 iday, December 16th, 2011 with special guest…DJ Sake-Onehttp://djsak
 e1.com/http://mixcrate.com/djsake1http://alldayplay.fm/sonofrawhttp://
 facebook.com/djsake1----->Along with your resident DJs…Platurnhttp:/
 /djplaturn.com/E Da Bosshttp://twitter.com/ericbossEnkihttp://djenki.c
 om/----->Hosted by the one and only Jern Eye : http://twitter.com/jer
 neye----->Once again...\"THE HELLA RECORDS SALE X THE 45 SESSIONS\" Vi
 nyl SwapCurated by Geraldine Convento ( http://feelmygrooves.com/ )'
 THE HELLA RECORDS SALE' is a vinyl record sale that occurs in multiple
  places throughout the year around the SF BAY Area.At each sale you'll
  find multiple people selling LP's & 45s to condense their collections
 , make a quick buck and several people nerding out/talking about music
 .Bring cash to buy!----->DJs playing all 7″ 45 rpm records — all s
 tyles, all night!All ages9pm-2am$5-10 sliding scale donationDrink spec
 ials + restaurant attachedhttp://discovolanteoakland.com/347 14th Stre
 et @ WebsterOakland, California 94612\n\nFor more information visit ht
 tp://trueskool.com/events/the-45-sessions-v-22-holidays-edition-w-spec
 ial-guest-dj-sake
DTSTART;TZID=America/Los_Angeles:20111215T210000
DTEND;TZID=America/Los_Angeles:20111216T140000
CATEGORIES:oakland, bay, area, ca
LOCATION:Disco Volante
WEBSITE:http://the45sessions.com/
URL:http://the45sessions.com/
CONTACT:
ORGANIZER;CN="DJ Platurn":http://trueskool.com/profile/DJPlaturn
ATTACH;FMTTYPE="image/jpeg":http://storage.ning.com/topology/rest/1.0/
 file/get/2247904172?profile=original
ATTENDEE;ROLE=REQ-PARTICIPANT;PARTSTAT=ACCEPTED;RSVP=TRUE;CN="DJ Platu
 rn":http://trueskool.com/profile/DJPlaturn
END:VEVENT
END:VCALENDAR
