BEGIN:VCALENDAR
PRODID:NingEventWidget-v1
VERSION:2.0
METHOD:PUBLISH
BEGIN:VTIMEZONE
TZID:America/Los_Angeles
X-LIC-LOCATION:America/Los_Angeles
BEGIN:DAYLIGHT
TZOFFSETFROM:-0800
TZOFFSETTO:-0700
TZNAME:PDT
DTSTART:19700308T020000
RRULE:FREQ=YEARLY;BYMONTH=3;BYDAY=2SU
END:DAYLIGHT
BEGIN:STANDARD
TZOFFSETFROM:-0700
TZOFFSETTO:-0800
TZNAME:PST
DTSTART:19701101T020000
RRULE:FREQ=YEARLY;BYMONTH=11;BYDAY=1SU
END:STANDARD
END:VTIMEZONE
BEGIN:VEVENT
UID:1464587:Event:94081
DTSTAMP:20260420T170907Z
SUMMARY:‘The 45 Sessions’ V.18 W/ Hot Peas & Butta, Billy Jam & Ra
 ashan Ahmad
DESCRIPTION:||| ‘The 45 Sessions’ V.18 |||Saturday, August 20th, 2
 011 with special guests...Hot Peas & Butta Crew featuring:Skeme Richar
 dshttp://hotpeasandbutta.com​/Supreme La Rockhttp://supremelarock.co
 m/Hot Peas and Butta is a traveling Funk, Soul, Rare Grooves and all t
 hings funky 45 party that got it's beginnings in Philadelphia and New 
 York but has touched down in other states and countries including Los 
 Angeles, Seattle, Japan, Germany and Switzerland to name a few. But th
 e main ingredient that seperates HP&B from other parties of its kind i
 s the unique visuals projected during the event. For each location Ske
 me taps into his vast VHS video archives of old concert footage, comme
 rcials, movie trailers, cartoons, kung fu and blaxploitation flix to c
 ompile a cinematic landscape which accompanies the all 45 soundtrack b
 eing spun. Visually and sonically, Hot Peas and Butta has you covered!
 +DJ Billy Jamhttp://hiphopslam.com/Along with your resident DJs…Plat
 urnhttp://djplaturn.com/E Da Bosshttp://twitter.com/ericbos​sEnkihtt
 p://djenki.com/----->And finally, we'll also be breaking our first 45 
 rule and celebrating the release of Raashan Ahmad's limited clear viny
 l 12\" release of his dope new joint, \"In Love With Wax\" off of his 
 new album \"For What You've Lost\". http://soundcloud.com/the4​5ses
 sions/raashan-ahmad_in​-love-with-waxClick the link, check it out an
 d come to The 45 Sessions on the 20th of this month and cop that jawn!
 ----->DJs playing all 7″ 45 rpm records — all styles, all night!21
 +9pm-2amDrink specials!5 dollars cheaphttp://discovolanteoakland​.co
 m/347 14th Street @ WebsterOakland, California 94612Hosted by Larry Br
 ite : http://twitter.com/larrybr​ite—–>We’re doing this for y
 ou Oakland — in order for the success of the 45 Sessions to keep goi
 ng it is up to you all to help spread the word and support this night!
  Let’s keep it moving.Peace.DJ Platurn\n\nFor more information visit
  http://trueskool.com/events/the-45-sessions-v-18-w-hot-peas-butta-bil
 ly-jam-raashan-ahmad
DTSTART;TZID=America/Los_Angeles:20110820T210000
DTEND;TZID=America/Los_Angeles:20110821T020000
CATEGORIES:oakland, ca
LOCATION:Disco Volante
WEBSITE:http://the45sessions.com/
URL:http://the45sessions.com/
CONTACT:
ORGANIZER;CN="DJ Platurn":http://trueskool.com/profile/DJPlaturn
ATTACH;FMTTYPE="image/jpeg":http://storage.ning.com/topology/rest/1.0/
 file/get/2247899260?profile=original
ATTENDEE;ROLE=REQ-PARTICIPANT;PARTSTAT=ACCEPTED;RSVP=TRUE;CN="DJ Platu
 rn":http://trueskool.com/profile/DJPlaturn
ATTENDEE;ROLE=REQ-PARTICIPANT;PARTSTAT=TENTATIVE;RSVP=TRUE;CN="Ren the
  Vinyl Archaeologist":http://trueskool.com/profile/xh51jvilojur
END:VEVENT
END:VCALENDAR
