BEGIN:VCALENDAR
PRODID:NingEventWidget-v1
VERSION:2.0
METHOD:PUBLISH
BEGIN:VTIMEZONE
TZID:America/Los_Angeles
X-LIC-LOCATION:America/Los_Angeles
BEGIN:DAYLIGHT
TZOFFSETFROM:-0800
TZOFFSETTO:-0700
TZNAME:PDT
DTSTART:19700308T020000
RRULE:FREQ=YEARLY;BYMONTH=3;BYDAY=2SU
END:DAYLIGHT
BEGIN:STANDARD
TZOFFSETFROM:-0700
TZOFFSETTO:-0800
TZNAME:PST
DTSTART:19701101T020000
RRULE:FREQ=YEARLY;BYMONTH=11;BYDAY=1SU
END:STANDARD
END:VTIMEZONE
BEGIN:VEVENT
UID:1464587:Event:654232
DTSTAMP:20260421T194821Z
SUMMARY:The 45 Sessions featuring DJ Z-Trip
DESCRIPTION:ENTER TO WIN A PAIR OF TICKETS. WINNER WILL BE DRAWN RANDO
 MLY AND ANNOUNCED 2 DAYS PRIOR TO EVENT.  \n\nWWW.DJZTRIP45SESSIONS.
 EVENTBRITE.COM  November 10th, 2016 | 8 PM - 2 AM [friday is a holiday
 ]  The 45 Sessions x DJ Z Trip  www.djztrip.com www.twitter.com/ztri
 p www.ztrip.bandcamp.com www.facebook.com/djztrip www.instagram.com/z_
 trip  Along with your Sessions residents...  DJ Enki & DJ Platurn | w
 ww.the45sessions.com  Opening set by DJ Doc-Fu | Hosted by Fran Boogie
  & 15Utah  In the lounge: DJs Delgado & Saurus + host Jern Eye  + vend
 ors, giveaways, new merch, and more!  ||| HAPPY 45th BIRTHDAY MATTHEW 
 AFRICA |||  ----->  21+ | Drink Specials  The Uptown Nightclub www.up
 townnightclub.com 1928 Telegraph Ave. - Oakland, CA\n\nFor more inform
 ation visit http://trueskool.com/events/the-45-sessions-featuring-dj-z
 -trip
DTSTART;TZID=America/Los_Angeles:20161110T200000
DTEND;TZID=America/Los_Angeles:20161111T020000
CATEGORIES:uptown, nightclub, oakland
LOCATION:uptown nightclub, oakland, ca
WEBSITE:http://djztrip45sessions.eventbrite.com
URL:http://djztrip45sessions.eventbrite.com
CONTACT:
ORGANIZER;CN="DJ Platurn":http://trueskool.com/profile/DJPlaturn
ATTACH;FMTTYPE="image/jpeg":http://storage.ning.com/topology/rest/1.0/
 file/get/2247992204?profile=original
ATTENDEE;ROLE=REQ-PARTICIPANT;PARTSTAT=ACCEPTED;RSVP=TRUE;CN="DJ Platu
 rn":http://trueskool.com/profile/DJPlaturn
END:VEVENT
END:VCALENDAR
