BEGIN:VCALENDAR
PRODID:NingEventWidget-v1
VERSION:2.0
METHOD:PUBLISH
BEGIN:VTIMEZONE
TZID:America/Los_Angeles
X-LIC-LOCATION:America/Los_Angeles
BEGIN:DAYLIGHT
TZOFFSETFROM:-0800
TZOFFSETTO:-0700
TZNAME:PDT
DTSTART:19700308T020000
RRULE:FREQ=YEARLY;BYMONTH=3;BYDAY=2SU
END:DAYLIGHT
BEGIN:STANDARD
TZOFFSETFROM:-0700
TZOFFSETTO:-0800
TZNAME:PST
DTSTART:19701101T020000
RRULE:FREQ=YEARLY;BYMONTH=11;BYDAY=1SU
END:STANDARD
END:VTIMEZONE
BEGIN:VEVENT
UID:1464587:Event:651226
DTSTAMP:20260421T025004Z
SUMMARY:The 45 Sessions feat. Prince Paul
DESCRIPTION:TIX: www.45sessionsprincepaul.eventbrite.comJune 30th, 20
 16 | The 45 Sessions featuring the legend...Prince Paul DJ , Produce
 r extraordinaire[DE LA SOUL | HANDSOME BOY MODELING SCHOOL | STETSASON
 IC | THE GRAVEDIGGAZ | CHRIS ROCK]www.twitter.com/djprincepaulwww.soun
 dcloud.com/dj-prince-paulwww.instagram.com/djprincepaulBrought to you 
 by The 45 Sessions, Uptown Nightclub, Go Pro Music, Gershoni Sound, Mi
 xerfriendly, & True Clothing----->Alongside your resident DJs...SHORTK
 UT <> PLATURN <> MR. EHosted by Fran Boogie, Carey Kopp, & Allattracti
 ve+ prizes, giveaways, vendors, and more!----->Doors at 9 PM <> 21+ <>
  Drink Specials!www.uptownnightclub.com1928 Telegraph AveOakland, CA\n
 \nFor more information visit http://trueskool.com/events/the-45-sessio
 ns-feat-prince-paul
DTSTART;TZID=America/Los_Angeles:20160630T210000
DTEND;TZID=America/Los_Angeles:20160701T020000
CATEGORIES:uptown, nightclub, oakland
LOCATION:uptown nightclub, oakland
WEBSITE:http://45sessionsprincepaul.eventbrite.com
URL:http://45sessionsprincepaul.eventbrite.com
CONTACT:
ORGANIZER;CN="DJ Platurn":http://trueskool.com/profile/DJPlaturn
ATTACH;FMTTYPE="image/jpeg":http://storage.ning.com/topology/rest/1.0/
 file/get/2247988993?profile=original
ATTENDEE;ROLE=REQ-PARTICIPANT;PARTSTAT=ACCEPTED;RSVP=TRUE;CN="DJ Platu
 rn":http://trueskool.com/profile/DJPlaturn
END:VEVENT
END:VCALENDAR
