BEGIN:VCALENDAR
PRODID:NingEventWidget-v1
VERSION:2.0
METHOD:PUBLISH
BEGIN:VTIMEZONE
TZID:America/Los_Angeles
X-LIC-LOCATION:America/Los_Angeles
BEGIN:DAYLIGHT
TZOFFSETFROM:-0800
TZOFFSETTO:-0700
TZNAME:PDT
DTSTART:19700308T020000
RRULE:FREQ=YEARLY;BYMONTH=3;BYDAY=2SU
END:DAYLIGHT
BEGIN:STANDARD
TZOFFSETFROM:-0700
TZOFFSETTO:-0800
TZNAME:PST
DTSTART:19701101T020000
RRULE:FREQ=YEARLY;BYMONTH=11;BYDAY=1SU
END:STANDARD
END:VTIMEZONE
BEGIN:VEVENT
UID:1464587:Event:662987
DTSTAMP:20260421T110422Z
SUMMARY:The 45 Sessions 7\" Year Anniversary 'Oakland' Edition feat. D
 J Scratch
DESCRIPTION:ENTER TO WIN A PAIR OF TICKETS. WINNER WILL BE DRAWN RANDO
 MLY AND ANNOUNCED 2 DAYS PRIOR TO EVENT. \n\nTIX @ 45SESSIONS7YEAROA
 K.EVENTBRITE.COM  The 45 Sessions 7\" Year Anniversary 'Oakland' Editi
 on  May 16th, 2017 @ The Uptown Nightclub  With very special guest, a
  man widely regarded as one of the best 45s DJs on planet earth, the o
 ne and only legend...  DJ Scratch | www.scratchvision.com  + The 45
  Sessions residents & opening set by DJ Flow  Hosted by Fran Boogie  
 Doors at 9pm | 21+ | Drink specials | Giveaways + merch  Uptown Nightc
 lub 1928 Telegraph Ave, Oakland www.uptownnightclub.com\n\nFor more in
 formation visit http://trueskool.com/events/the-45-sessions-7-year-ann
 iversary-oakland-edition-feat-dj
DTSTART;TZID=America/Los_Angeles:20170616T210000
DTEND;TZID=America/Los_Angeles:20170617T030000
CATEGORIES:oakland, uptown, nightclub
LOCATION:uptown nightclub, oakland, ca
WEBSITE:http://www.45sessions7yearoak.eventbrite.com
URL:http://www.45sessions7yearoak.eventbrite.com
CONTACT:
ORGANIZER;CN="DJ Platurn":http://trueskool.com/profile/DJPlaturn
ATTACH;FMTTYPE="image/jpeg":http://storage.ning.com/topology/rest/1.0/
 file/get/2247998042?profile=original
ATTENDEE;ROLE=REQ-PARTICIPANT;PARTSTAT=ACCEPTED;RSVP=TRUE;CN="Ren the 
 Vinyl Archaeologist":http://trueskool.com/profile/xh51jvilojur
ATTENDEE;ROLE=REQ-PARTICIPANT;PARTSTAT=ACCEPTED;RSVP=TRUE;CN="DJ Platu
 rn":http://trueskool.com/profile/DJPlaturn
END:VEVENT
END:VCALENDAR
