BEGIN:VCALENDAR
PRODID:NingEventWidget-v1
VERSION:2.0
METHOD:PUBLISH
BEGIN:VTIMEZONE
TZID:America/Los_Angeles
X-LIC-LOCATION:America/Los_Angeles
BEGIN:DAYLIGHT
TZOFFSETFROM:-0800
TZOFFSETTO:-0700
TZNAME:PDT
DTSTART:19700308T020000
RRULE:FREQ=YEARLY;BYMONTH=3;BYDAY=2SU
END:DAYLIGHT
BEGIN:STANDARD
TZOFFSETFROM:-0700
TZOFFSETTO:-0800
TZNAME:PST
DTSTART:19701101T020000
RRULE:FREQ=YEARLY;BYMONTH=11;BYDAY=1SU
END:STANDARD
END:VTIMEZONE
BEGIN:VEVENT
UID:1464587:Event:644959
DTSTAMP:20260420T214707Z
SUMMARY:The 420 East Bay Getdown featuring Pep Love, Z-Man, & Little L
 arry
DESCRIPTION:Fransciso St. Productions & Natural Lee Dope are proud to 
 present:The 420 East Bay Get Downwww.420eastbaygetdown.brownpaperticke
 ts.comLive Performances by Oakland's own Pep LoveThe dynmaic Duo of Z-
 Man & DJ True JusticeplusB-Town's finest-Little Larry.ATTENTION:420 Fr
 iendly Patio featuring Laced Cakes Bakerywww.lacedcakes.comSuper Dupe
 r Sounds by:El Kool Kyle( Baylando Records )Special Beat Set by:The Ar
 chitect (G-Luv)https://youtu.be/sPCm22D65dA\n\n\nFor more information 
 visit http://trueskool.com/events/the-420-east-bay-getdown-featuring-p
 ep-love
DTSTART;TZID=America/Los_Angeles:20160420T210000
DTEND;TZID=America/Los_Angeles:20160421T020000
CATEGORIES:oakland, east, bay, town, business
LOCATION:The Stork Club
WEBSITE:http://www.420eastbaygetdown.brownpapertickets.com
URL:http://www.420eastbaygetdown.brownpapertickets.com
CONTACT:510-444-6174
ORGANIZER;CN="True Justice":http://trueskool.com/profile/TrueJustice
ATTACH;FMTTYPE="image/jpeg":http://storage.ning.com/topology/rest/1.0/
 file/get/2247989509?profile=original
ATTENDEE;ROLE=REQ-PARTICIPANT;PARTSTAT=ACCEPTED;RSVP=TRUE;CN="True Jus
 tice":http://trueskool.com/profile/TrueJustice
END:VEVENT
END:VCALENDAR
