BEGIN:VCALENDAR
PRODID:NingEventWidget-v1
VERSION:2.0
METHOD:PUBLISH
BEGIN:VTIMEZONE
TZID:America/Los_Angeles
X-LIC-LOCATION:America/Los_Angeles
BEGIN:DAYLIGHT
TZOFFSETFROM:-0800
TZOFFSETTO:-0700
TZNAME:PDT
DTSTART:19700308T020000
RRULE:FREQ=YEARLY;BYMONTH=3;BYDAY=2SU
END:DAYLIGHT
BEGIN:STANDARD
TZOFFSETFROM:-0700
TZOFFSETTO:-0800
TZNAME:PST
DTSTART:19701101T020000
RRULE:FREQ=YEARLY;BYMONTH=11;BYDAY=1SU
END:STANDARD
END:VTIMEZONE
BEGIN:VEVENT
UID:1464587:Event:647649
DTSTAMP:20260420T215131Z
SUMMARY:The 2016 DMC BAY AREA Regional DJ Battle + The 2016 DMC USA SC
 RATCH FINALS
DESCRIPTION:\nFRIDAY, APR 22 Rane in assoc. with the Hip Hop Chess Fed
 eration presents The 2016 DMC BAY AREA Regional DJ Battle + The 2016 
 DMC USA SCRATCH FINALS \n\nHost and performance by T-KASH Showcases t
 o be Announced Judges: DJ Quest, Mista B, 8-Ball, DJ Cue + more tba\n\
 n@ Hip Hop Chess Federation 42660 Christy St. Suite B, Fremont, CA 945
 38 6pm doors open. 7pm battles begin  *No filming is permitted  Ages
  10 and under in for FREE! Ages 11-16 for $5  $10 adv. $15 day of  
 Main event page: facebook.com/events/569387709904160/ More dates for o
 ther cities tbc for April 2016 www.dmcdjchamps.com www.facebook.com/g
 roups/dmcusa\n\nFor more information visit http://trueskool.com/events
 /the-2016-dmc-bay-area-regional-dj-battle-the-2016-dmc-usa-scratch
DTSTART;TZID=America/Los_Angeles:20160422T180000
DTEND;TZID=America/Los_Angeles:20160422T230000
CATEGORIES:"bay area", fremont
LOCATION:Hip Hop Chess Federation
WEBSITE:http://www.facebook.com/events/ 857073784403242
URL:http://www.facebook.com/events/ 857073784403242
CONTACT:
ORGANIZER:Rane in assoc. with the Hip Hop Chess Federation
ATTACH;FMTTYPE="image/jpeg":http://storage.ning.com/topology/rest/1.0/
 file/get/2247988238?profile=original
ATTENDEE;ROLE=REQ-PARTICIPANT;PARTSTAT=ACCEPTED;RSVP=TRUE;CN="Editor's
  Pick":http://trueskool.com/profile/RentheVinylArchaeologist
END:VEVENT
END:VCALENDAR
