BEGIN:VCALENDAR
PRODID:NingEventWidget-v1
VERSION:2.0
METHOD:PUBLISH
BEGIN:VTIMEZONE
TZID:America/Los_Angeles
X-LIC-LOCATION:America/Los_Angeles
BEGIN:DAYLIGHT
TZOFFSETFROM:-0800
TZOFFSETTO:-0700
TZNAME:PDT
DTSTART:19700308T020000
RRULE:FREQ=YEARLY;BYMONTH=3;BYDAY=2SU
END:DAYLIGHT
BEGIN:STANDARD
TZOFFSETFROM:-0700
TZOFFSETTO:-0800
TZNAME:PST
DTSTART:19701101T020000
RRULE:FREQ=YEARLY;BYMONTH=11;BYDAY=1SU
END:STANDARD
END:VTIMEZONE
BEGIN:VEVENT
UID:1464587:Event:626078
DTSTAMP:20260420T200829Z
SUMMARY:The 2015 DMC NEW ORLEANS Regional DJ Battle
DESCRIPTION:Friday, April 10, 2015: Rane in assoc. with Tony Skratche
 re, Dj Hurricane, ProMix and MySitti.com presents: The 2015 DMC NEW 
 ORLEANS Regional DJ Battle Showcases by 2014 DMC World Online Champ &
  2x DMC US Champ: DJ I-DEE + DMC US Finalist: DJ IMMORTAL! Host: Tony 
 Skratchere! The Maison 508 Frenchmen St New Orleans LA 70116www.maiso
 nfrenchmen.com9pm-1am. $10. 18 + w/ ID. *No filming \nADVANCE TICKETS
 : http://bit.ly/DMCRegionalTixwww.dmcdjchamps.com\n\nFor more informa
 tion visit http://trueskool.com/events/the-2015-dmc-new-orleans-region
 al-dj-battle
DTSTART;TZID=America/Los_Angeles:20150410T210000
DTEND;TZID=America/Los_Angeles:20150411T010000
CATEGORIES:"new orleans", nola
LOCATION:The Maison, New Orleans
WEBSITE:http://bit.ly/DMCRegionalTix
URL:http://bit.ly/DMCRegionalTix
CONTACT:www.maisonfrenchmen.com
ORGANIZER:Christie Z-Pabon, Tony Skratchere
ATTACH;FMTTYPE="image/jpeg":http://storage.ning.com/topology/rest/1.0/
 file/get/2247975969?profile=original
ATTENDEE;ROLE=REQ-PARTICIPANT;PARTSTAT=ACCEPTED;RSVP=TRUE;CN="Christie
  Z-Pabon":http://trueskool.com/profile/ChristieZPabon
END:VEVENT
END:VCALENDAR
