BEGIN:VCALENDAR
PRODID:NingEventWidget-v1
VERSION:2.0
METHOD:PUBLISH
BEGIN:VTIMEZONE
TZID:America/Los_Angeles
X-LIC-LOCATION:America/Los_Angeles
BEGIN:DAYLIGHT
TZOFFSETFROM:-0800
TZOFFSETTO:-0700
TZNAME:PDT
DTSTART:19700308T020000
RRULE:FREQ=YEARLY;BYMONTH=3;BYDAY=2SU
END:DAYLIGHT
BEGIN:STANDARD
TZOFFSETFROM:-0700
TZOFFSETTO:-0800
TZNAME:PST
DTSTART:19701101T020000
RRULE:FREQ=YEARLY;BYMONTH=11;BYDAY=1SU
END:STANDARD
END:VTIMEZONE
BEGIN:VEVENT
UID:1464587:Event:626949
DTSTAMP:20260420T153342Z
SUMMARY:That BIG 80s Party
DESCRIPTION:\nFRIDAY, MAY 1That BIG 80s PartyThe ultimate 80s tribute 
 - THAT BIG 80s PARTY. DJ Dave Paul has been a deejay since the eightie
 s and on May 1st he will break down the 80s and reconstruct the decade
  in the main room of Public Works. 161 Erie St (off Mission between Du
 boce and 14th) in San Francisco.  9pm-2am / $8 adv, $10 door / 21+ tic
 kets at http://bso.sh/80sparty_5_1   Cabbage Patch Kids, Rubik's Cube,
  Live Aid, Flashdance, Purple Rain, Beat Street, Yo MTV Raps, spandex,
  leggings & shoulder pads! If you grew up in the 80's come by and reli
 ve the decade and if you weren't around in the 80's come experience wh
 at you missed.   Celebrating the 10 year anniversary of the ongoing Th
 at 80s Show party.\n \n\nFor more information visit http://trueskool.
 com/events/that-big-80s-party
DTSTART;TZID=America/Los_Angeles:20150501T210000
DTEND;TZID=America/Los_Angeles:20150502T020000
CATEGORIES:san, francisco, public, works
LOCATION:Public Works, San Francisco, CA
WEBSITE:https://www.facebook.com/events/350196148522541
URL:https://www.facebook.com/events/350196148522541
CONTACT:
ORGANIZER;CN="Dave Paul":http://trueskool.com/profile/DavePaul
ATTACH;FMTTYPE="image/jpeg":http://storage.ning.com/topology/rest/1.0/
 file/get/2247977465?profile=original
ATTENDEE;ROLE=REQ-PARTICIPANT;PARTSTAT=ACCEPTED;RSVP=TRUE;CN="Dave Pau
 l":http://trueskool.com/profile/DavePaul
END:VEVENT
END:VCALENDAR
