BEGIN:VCALENDAR
PRODID:NingEventWidget-v1
VERSION:2.0
METHOD:PUBLISH
BEGIN:VTIMEZONE
TZID:America/Los_Angeles
X-LIC-LOCATION:America/Los_Angeles
BEGIN:DAYLIGHT
TZOFFSETFROM:-0800
TZOFFSETTO:-0700
TZNAME:PDT
DTSTART:19700308T020000
RRULE:FREQ=YEARLY;BYMONTH=3;BYDAY=2SU
END:DAYLIGHT
BEGIN:STANDARD
TZOFFSETFROM:-0700
TZOFFSETTO:-0800
TZNAME:PST
DTSTART:19701101T020000
RRULE:FREQ=YEARLY;BYMONTH=11;BYDAY=1SU
END:STANDARD
END:VTIMEZONE
BEGIN:VEVENT
UID:1464587:Event:645034
DTSTAMP:20260421T085820Z
SUMMARY:That BIG 80s Party
DESCRIPTION:\nThe ultimate 80s party in San Francisco – That BIG 80s
  Party. DJ Dave Paul breaks down the 80s and reconstructs the decade a
 t Public Works. Advance tickets at http://80sapril30.eventbrite.com/ 
  inside The Loft @ Public Works 161 Erie St (off Mission btw 14th & Du
 boce) 9pm - 2am / $10 / 21+ / no dress code  Cabbage Patch Kids, Rubik
 's Cube, Live Aid, Flashdance, Purple Rain, Beat Street, Yo MTV Raps, 
 spandex, leggings & shoulder pads! If you grew up in the 80's come by 
 and relive the decade and if you weren't around in the 80's come exper
 ience what you missed. Bust out your retro gear be it new wave, punk o
 r hip-hop and come have some fun. More info athttp://bit.ly/1980_1989\
 n\nFor more information visit http://trueskool.com/events/that-big-80s
 -party-5
DTSTART;TZID=America/Los_Angeles:20160528T210000
DTEND;TZID=America/Los_Angeles:20160529T020000
CATEGORIES:san, francisco
LOCATION:Public Works, San Francisco
WEBSITE:https://www.facebook.com/events/943309712432187/
URL:https://www.facebook.com/events/943309712432187/
CONTACT:
ORGANIZER;CN="Dave Paul":http://trueskool.com/profile/DavePaul
ATTACH;FMTTYPE="image/jpeg":http://storage.ning.com/topology/rest/1.0/
 file/get/2247986914?profile=original
ATTENDEE;ROLE=REQ-PARTICIPANT;PARTSTAT=ACCEPTED;RSVP=TRUE;CN="Dave Pau
 l":http://trueskool.com/profile/DavePaul
END:VEVENT
END:VCALENDAR
