BEGIN:VCALENDAR
PRODID:NingEventWidget-v1
VERSION:2.0
METHOD:PUBLISH
BEGIN:VTIMEZONE
TZID:America/Los_Angeles
X-LIC-LOCATION:America/Los_Angeles
BEGIN:DAYLIGHT
TZOFFSETFROM:-0800
TZOFFSETTO:-0700
TZNAME:PDT
DTSTART:19700308T020000
RRULE:FREQ=YEARLY;BYMONTH=3;BYDAY=2SU
END:DAYLIGHT
BEGIN:STANDARD
TZOFFSETFROM:-0700
TZOFFSETTO:-0800
TZNAME:PST
DTSTART:19701101T020000
RRULE:FREQ=YEARLY;BYMONTH=11;BYDAY=1SU
END:STANDARD
END:VTIMEZONE
BEGIN:VEVENT
UID:1464587:Event:644463
DTSTAMP:20260420T150528Z
SUMMARY:That BIG 80s Party
DESCRIPTION:\nThe ultimate 80s party in San Francisco – That BIG 80s
  Party. DJ Dave Paul breaks down the 80s and reconstructs the decade.\
 ninside The Loft @ Public Works 161 Erie St (off Mission btw 14th & Du
 boce) 9pm - 2am / $10 / 21+ / no dress code Advance tickets at http://
 bit.ly/80stixmarch4\nCabbage Patch Kids, Rubik's Cube, Live Aid, Flash
 dance, Purple Rain, Beat Street, Yo MTV Raps, spandex, leggings & shou
 lder pads! If you grew up in the 80's come by and relive the decade an
 d if you weren't around in the 80's come experience what you missed. B
 ust out your retro gear be it new wave, punk or hip-hop and come have 
 some fun. More info at http://bit.ly/1980_1989\n\nFor more information
  visit http://trueskool.com/events/that-big-80s-party-4
DTSTART;TZID=America/Los_Angeles:20160304T210000
DTEND;TZID=America/Los_Angeles:20160305T020000
CATEGORIES:san, francisco, public, works
LOCATION:Public Works, San Francisco, CA
WEBSITE:http://bit.ly/80stixmarch4
URL:http://bit.ly/80stixmarch4
CONTACT:
ORGANIZER;CN="Dave Paul":http://trueskool.com/profile/DavePaul
ATTACH;FMTTYPE="image/jpeg":http://storage.ning.com/topology/rest/1.0/
 file/get/2247984634?profile=original
END:VEVENT
END:VCALENDAR
