BEGIN:VCALENDAR
PRODID:NingEventWidget-v1
VERSION:2.0
METHOD:PUBLISH
BEGIN:VTIMEZONE
TZID:America/Los_Angeles
X-LIC-LOCATION:America/Los_Angeles
BEGIN:DAYLIGHT
TZOFFSETFROM:-0800
TZOFFSETTO:-0700
TZNAME:PDT
DTSTART:19700308T020000
RRULE:FREQ=YEARLY;BYMONTH=3;BYDAY=2SU
END:DAYLIGHT
BEGIN:STANDARD
TZOFFSETFROM:-0700
TZOFFSETTO:-0800
TZNAME:PST
DTSTART:19701101T020000
RRULE:FREQ=YEARLY;BYMONTH=11;BYDAY=1SU
END:STANDARD
END:VTIMEZONE
BEGIN:VEVENT
UID:1464587:Event:662132
DTSTAMP:20260421T124337Z
SUMMARY:That BIG 80s Party
DESCRIPTION:\n\nAssemble your squad for the ultimate 80s party - That 
 BIG 80s Party. DJ Dave Paul will break down the 80s and reconstruct th
 e decade inside Public Works.   May 26th : PUBLIC WORKS (in the main 
 room) 161 Erie (off Mission between Duboce and 14th) San Francisco, CA
  94103 9pm-2am / 21+   Tickets at http://bit.ly/80may26  Cabbage Pat
 ch Kids, Rubik's Cube, Live Aid, Flashdance, Purple Rain, Beat Street,
  Yo MTV Raps, spandex, leggings & shoulder pads! If you grew up in the
  80's come by and relive the decade and if you weren't around in the 8
 0's come experience what you missed. Bust out your retro gear be it ne
 w wave, punk or hip-hop and come have some fun.   For over 20 years, 
 DJ Dave Paul has been an integral part of hip-hop and DJ culture. In t
 he early 90s, he launched the now legendary publication, The Bomb Hip-
 Hop Magazine, and in 1995, Paul transformed the magazine into a record
  label. The company was named \"one of the fifteen independent labels 
 that matter,\" according to Rolling Stone, and the label's Return of t
 he DJ series was ranked by Spin Magazine as #25 in their \"The 90 Grea
 test Albums of the 90's\" (Sept. 1999 issue), receiving a higher ratin
 g than Gold & Platinum albums by Lauryn Hill, Pearl Jam, Metallica, Gr
 een Day, and Fatboy Slim. Dave Paul has appeared on the front cover of
  Billboard magazine and is featured in the motion picture Scratch. Mr.
  Paul has DJ'ed throughout the US, toured Europe, released over 100 pr
 ojects on his record label, and currently produces theme parties, incl
 uding The Prince and Michael Experience and That BIG 80s Party.  You m
 ay or may not hear songs by George Michael, Wham!, David Bowie, Prince
 , Michael Jackson, Whitney Houston, INXS, Dead Or Alive, Queen, Falco,
  Rick James, Robert Palmer, The Cars, Run DMC, Depeche Mode, Eric B. &
  Rakim, Duran Duran, Beastie Boys, New Order, The Cure, The Pet Shop B
 oys, Hall & Oates, Adam Ant, Grace Jones, Madonna,Tears For Fears, Sal
 t N' Pepa, NWA, Lisa Lisa & Cult Jam, Guns N Roses, Midnight Star, Big
  Daddy Kane, Shannon, Egyptian Lover, Herbie Hancock, Debbie Deb, Came
 o, Simple Minds, Nu Shooz, ABC, A Flock of Seagulls, Fine Young Cannib
 als, OMD, Kurtis Blow, Scritti Politti, Thompson Twins, Howard Jones, 
 Kraftwerk, Devo, Klymaxx, DeBarge, New Edition, Janet Jackson, Eurythm
 ics, AC/DC, Blondie, Sweet Sensation, Paula Abdul, Bobby Brown, Dazz B
 and, 2 Live Crew, Expose, The Cover Girls, Public Enemy, Kool & The Ga
 ng, Culture Club, The Human League, Berlin, Wang Chung, The Fixx, Stev
 ie B, Doug E. Fresh, Slick Rick, Jody Watley, The Clash, Bon Jovi, The
  Police, Billy Idol, The Go-Go's, Talking Heads...\n\nFor more informa
 tion visit http://trueskool.com/events/that-big-80s-party-11
DTSTART;TZID=America/Los_Angeles:20170526T210000
DTEND;TZID=America/Los_Angeles:20170527T020000
CATEGORIES:san, francisco
LOCATION:Public Works, San Francisco, CA
WEBSITE:https://www.facebook.com/events/767742490050333/
URL:https://www.facebook.com/events/767742490050333/
CONTACT:
ORGANIZER;CN="Dave Paul":http://trueskool.com/profile/DavePaul
ATTACH;FMTTYPE="image/jpeg":http://storage.ning.com/topology/rest/1.0/
 file/get/2247996641?profile=original
ATTENDEE;ROLE=REQ-PARTICIPANT;PARTSTAT=ACCEPTED;RSVP=TRUE;CN="Dave Pau
 l":http://trueskool.com/profile/DavePaul
END:VEVENT
END:VCALENDAR
