BEGIN:VCALENDAR
PRODID:NingEventWidget-v1
VERSION:2.0
METHOD:PUBLISH
BEGIN:VTIMEZONE
TZID:America/Los_Angeles
X-LIC-LOCATION:America/Los_Angeles
BEGIN:DAYLIGHT
TZOFFSETFROM:-0800
TZOFFSETTO:-0700
TZNAME:PDT
DTSTART:19700308T020000
RRULE:FREQ=YEARLY;BYMONTH=3;BYDAY=2SU
END:DAYLIGHT
BEGIN:STANDARD
TZOFFSETFROM:-0700
TZOFFSETTO:-0800
TZNAME:PST
DTSTART:19701101T020000
RRULE:FREQ=YEARLY;BYMONTH=11;BYDAY=1SU
END:STANDARD
END:VTIMEZONE
BEGIN:VEVENT
UID:1464587:Event:656865
DTSTAMP:20260421T052420Z
SUMMARY:That BIG 80s Party
DESCRIPTION:\nDec 23rd at Public Works: the ultimate 80s party in San 
 Francisco – That BIG 80s Party. DJ Dave Paul breaks down the 80s and
  reconstructs the decade inside The Loft at Public Works.  Public Work
 s  161 Erie St (off Mission btw 14th & Duboce) 9pm-2am / $10 / 21+ / 
 no dress code  Cabbage Patch Kids, Rubik's Cube, Live Aid, Flashdance,
  Purple Rain, Beat Street, Yo MTV Raps, spandex, leggings & shoulder p
 ads! If you grew up in the 80's come by and relive the decade and if y
 ou weren't around in the 80's come experience what you missed. Bust ou
 t your retro gear be it new wave, punk or hip-hop and come have some f
 un.   DJ Dave Paul began his music career in 1984, starting as a mobi
 le dj and evolving into a prominent college radio dj, club dj, and rem
 ixer in San Francisco. In 1991 he launched the now legendary publicati
 on The Bomb Hip-Hop Magazine and in 1995 Paul transformed the magazine
  into a record label. The company was named \"one of the fifteen indep
 endent labels that matter\" according to Rolling Stone and the labels 
 Return of the DJ series was ranked by Spin Magazine as #25 in their \"
 The 90 Greatest Albums of the 90's\" (Sept. 1999 issue), receiving a h
 igher rating than Gold & Platinum albums by Lauryn Hill, Pearl Jam, Me
 tallica, Green Day and Fatboy Slim. Dave Paul has appeared on the fron
 t cover of Billboard magazine and is featured in the motion picture Sc
 ratch. Mr. Paul has dj'ed throughout the US, toured Europe, released o
 ver 100 projects on his record label and currently produces theme part
 ies including That BIG 80s Party.\n\nFor more information visit http:/
 /trueskool.com/events/that-big-80s-party-10
DTSTART;TZID=America/Los_Angeles:20161223T210000
DTEND;TZID=America/Los_Angeles:20161224T020000
CATEGORIES:san, francisco
LOCATION:Public Works, San Francisco, CA
WEBSITE:https://www.facebook.com/events/1724315041163127
URL:https://www.facebook.com/events/1724315041163127
CONTACT:
ORGANIZER;CN="Dave Paul":http://trueskool.com/profile/DavePaul
ATTACH;FMTTYPE="image/jpeg":http://storage.ning.com/topology/rest/1.0/
 file/get/2247993026?profile=original
ATTENDEE;ROLE=REQ-PARTICIPANT;PARTSTAT=ACCEPTED;RSVP=TRUE;CN="Dave Pau
 l":http://trueskool.com/profile/DavePaul
END:VEVENT
END:VCALENDAR
