BEGIN:VCALENDAR
PRODID:NingEventWidget-v1
VERSION:2.0
METHOD:PUBLISH
BEGIN:VTIMEZONE
TZID:America/Los_Angeles
X-LIC-LOCATION:America/Los_Angeles
BEGIN:DAYLIGHT
TZOFFSETFROM:-0800
TZOFFSETTO:-0700
TZNAME:PDT
DTSTART:19700308T020000
RRULE:FREQ=YEARLY;BYMONTH=3;BYDAY=2SU
END:DAYLIGHT
BEGIN:STANDARD
TZOFFSETFROM:-0700
TZOFFSETTO:-0800
TZNAME:PST
DTSTART:19701101T020000
RRULE:FREQ=YEARLY;BYMONTH=11;BYDAY=1SU
END:STANDARD
END:VTIMEZONE
BEGIN:VEVENT
UID:1464587:Event:74451
DTSTAMP:20260421T020940Z
SUMMARY:Tha Dogg Pound (Win Tickets)
DESCRIPTION:CLICK HERE TO WIN A PAIR OF TICKETS:\nhttp://www.trueskool
 .com/group/wintickets\n\n \nFriday February 4 The Rock-it Room & Tast
 emaker Live present Tha Dogg Pound (Daz & Kurupt) :: live performance 
 El Rock, Sincere, DJ Mr.E on the 1s and 2s  The Rockit Room\n406 Cleme
 nt St., San Francisco\n21+ Doors 9:00pm, Show 10:00pm\n$20 ADV Tickets
  at http://thadoggpoundsf2011.eventbrite.com or $25 DOS\n \n\nFor more
  information visit http://trueskool.com/events/tha-dogg-pound-win-tick
 ets
DTSTART;TZID=America/Los_Angeles:20110311T210000
DTEND;TZID=America/Los_Angeles:20110312T020000
CATEGORIES:rock, it, room, san, francisco
LOCATION:Rock It Room, San Francisco
WEBSITE:http://thadoggpoundsf2011.eventbrite.com
URL:http://thadoggpoundsf2011.eventbrite.com
CONTACT:
ORGANIZER:Tastemaker Live!
ATTACH;FMTTYPE="image/jpeg":http://storage.ning.com/topology/rest/1.0/
 file/get/2247889981?profile=original
ATTENDEE;ROLE=REQ-PARTICIPANT;PARTSTAT=ACCEPTED;RSVP=TRUE;CN="Ren the 
 Vinyl Archaeologist":http://trueskool.com/profile/xh51jvilojur
END:VEVENT
END:VCALENDAR
