BEGIN:VCALENDAR
PRODID:NingEventWidget-v1
VERSION:2.0
METHOD:PUBLISH
BEGIN:VTIMEZONE
TZID:America/Los_Angeles
X-LIC-LOCATION:America/Los_Angeles
BEGIN:DAYLIGHT
TZOFFSETFROM:-0800
TZOFFSETTO:-0700
TZNAME:PDT
DTSTART:19700308T020000
RRULE:FREQ=YEARLY;BYMONTH=3;BYDAY=2SU
END:DAYLIGHT
BEGIN:STANDARD
TZOFFSETFROM:-0700
TZOFFSETTO:-0800
TZNAME:PST
DTSTART:19701101T020000
RRULE:FREQ=YEARLY;BYMONTH=11;BYDAY=1SU
END:STANDARD
END:VTIMEZONE
BEGIN:VEVENT
UID:1464587:Event:63743
DTSTAMP:20260420T085004Z
SUMMARY:TEMPO
DESCRIPTION:Thursdays\n\"TEMPO\"\n\n@ Sloane\n1525 Mission St\n...(Bet
 ween 11th & S Van Ness)\nSan Francisco, CA 94103\n(415) 621-7007\n\nRo
 ots / Dub / Dancehall / Lovers Rock / Exclusives / Remixes / Mash Ups\
 n\nResident Selectas\nI&I VIBRATION Beatnok & Mr Lucky\nivibesound.com
  /// ivibesound@gmail.com\n\n+ Special Guests\n\n- 09/02/10 COSMIC VIB
 E SOUND Lud Dub & Vinny Ras (Church Sundaze)\n- 09/09/10 LUCAZADE Blac
 k Love Sound (Oakland - J.A.)\n+ BESCENTA (Rising Artist out of St. An
 drews, Jamaica)\n- 09/16/10 THEORY (Fever SF / High Grade Tuesdays)\n-
  09/23/10 ARSON (Extortion Sound / 594 Apparel)\n- 09/30/10 VEYN (NKC 
 / Solid Thursdays)\n- 10/07/10 STEPWISE (Galang International / Guidin
 g Star)\n- 10/14/10 SERG (Irie Mondays / Soul Fiyah / Link Up)\n- 10/2
 1/10 SENSELESS (Awticals International)\n- 10/28/10 NOWTIME SOUND Seel
 o, Kaipo & Joe-L\n- 11/04/10 SELECT (Soul Guerilla)\n- 11/11/10 JAH YZ
 ER (Jah Warrior Shelter Hi-Fi)\n- 11/18/10 PAPALOTE Hi-Fi Mr E & M Cla
 rin\n- 11/25/10 TURKEY DAY\n- 12/2/10 The DEACON (Skylark)\n- 12/9/10 
 JACQUES (WBLK)\n- 12/16/10 IRIE DOLE (Jah Warrior Shelter Hi-Fi)\n- 12
 /23/10 ZITA & D MADNESS (Golden Soundscapes)\n- 12/30/10 STRICTLY I-VI
 BE (Beatnok & Mr Lucky)\n\nFREE /// NO COVER /// 21+ w/ID /// 10PM - 2
 AM\nInfo: ivibesound@gmail.com\n\nBOTTLE SERVICE & PARTIES AVAILABLE\n
 (bottles@sloanesf.com or call 415. 621. 7007)\n\nBubblin' for the Cont
 inua of Reggae music & DJ culture... Heavy Riddims, Lovers Rock, Exclu
 sive Cuts, Tailored Remixes, Live Mash Ups & Special Guest Artists... 
 TEMPO!\n\nFor more information visit http://trueskool.com/events/tempo
 -1
DTSTART;TZID=America/Los_Angeles:20100902T220000
DTEND;TZID=America/Los_Angeles:20101231T020000
CATEGORIES:soma
LOCATION:Sloane (San Francisco, CA)
WEBSITE:http://www.sloanesf.com
URL:http://www.sloanesf.com
CONTACT:(415) 621 7007
ORGANIZER;CN="I&I Vibration":http://trueskool.com/profile/IIVibration
ATTACH;FMTTYPE="image/jpeg":http://storage.ning.com/topology/rest/1.0/
 file/get/2247883456?profile=original
ATTENDEE;ROLE=REQ-PARTICIPANT;PARTSTAT=ACCEPTED;RSVP=TRUE;CN="I&I Vibr
 ation":http://trueskool.com/profile/IIVibration
END:VEVENT
END:VCALENDAR
