BEGIN:VCALENDAR
PRODID:NingEventWidget-v1
VERSION:2.0
METHOD:PUBLISH
BEGIN:VTIMEZONE
TZID:America/Los_Angeles
X-LIC-LOCATION:America/Los_Angeles
BEGIN:DAYLIGHT
TZOFFSETFROM:-0800
TZOFFSETTO:-0700
TZNAME:PDT
DTSTART:19700308T020000
RRULE:FREQ=YEARLY;BYMONTH=3;BYDAY=2SU
END:DAYLIGHT
BEGIN:STANDARD
TZOFFSETFROM:-0700
TZOFFSETTO:-0800
TZNAME:PST
DTSTART:19701101T020000
RRULE:FREQ=YEARLY;BYMONTH=11;BYDAY=1SU
END:STANDARD
END:VTIMEZONE
BEGIN:VEVENT
UID:1464587:Event:550206
DTSTAMP:20260420T200335Z
SUMMARY:TECH N9NE (Los Angeles)
DESCRIPTION:\nDate\nLocation\nEvent Details\nFind Tickets\n\n\n APR 
  \n16\nTHU\n\nThe ObservatorySanta Ana, CA08:00 PM\n\nTech N9ne with
  Krizz KalikoDetails: TECH N9NE, Krizz Kaliko\nSee Ticketson TicketWe
 b\n\n\n\n\n\nFor more information visit http://trueskool.com/events/te
 ch-n9ne-los-angeles
DTSTART;TZID=America/Los_Angeles:20150416T200000
DTEND;TZID=America/Los_Angeles:20150416T230000
CATEGORIES:"los angeles", la, "santa anna", california, ca
LOCATION:The Observatory, Santa Anna
WEBSITE:http://www.ticketmaster.com/partner_redirect?v=iPvZPY0kRw_0bRI
 LTzYd7NVu_qC_RnphIqdf7UHI4b8c7o2bNh7eF2FdR57WvWE32coGlJR3J-1OI0CM_5_h5
 -vGqJzKyRKPBlOeh0EVxHynkjsIt4rBLk1syQlxNS-wu_8AACMOQgTA9tVQWvwrVRKr1AO
 qNS3RFI3lb5g4S65uNgD8-1AkmBMizpVhdLjbJ0SCALqIVRIq-zCvjQ&eventid=29004E
 4404E082FA&artistid=1405093&artistname=Tech%20N9ne%20with%20Krizz%20Ka
 liko&crosssite=TM_US:1405093:73867
URL:http://www.ticketmaster.com/partner_redirect?v=iPvZPY0kRw_0bRILTzY
 d7NVu_qC_RnphIqdf7UHI4b8c7o2bNh7eF2FdR57WvWE32coGlJR3J-1OI0CM_5_h5-vGq
 JzKyRKPBlOeh0EVxHynkjsIt4rBLk1syQlxNS-wu_8AACMOQgTA9tVQWvwrVRKr1AOqNS3
 RFI3lb5g4S65uNgD8-1AkmBMizpVhdLjbJ0SCALqIVRIq-zCvjQ&eventid=29004E4404
 E082FA&artistid=1405093&artistname=Tech%20N9ne%20with%20Krizz%20Kaliko
 &crosssite=TM_US:1405093:73867
CONTACT:
ORGANIZER;CN="Editor's Pick":http://trueskool.com/profile/RentheVinylA
 rchaeologist
ATTACH;FMTTYPE="image/jpeg":http://storage.ning.com/topology/rest/1.0/
 file/get/2247944467?profile=original
ATTENDEE;ROLE=REQ-PARTICIPANT;PARTSTAT=ACCEPTED;RSVP=TRUE;CN="Editor's
  Pick":http://trueskool.com/profile/RentheVinylArchaeologist
END:VEVENT
END:VCALENDAR
