BEGIN:VCALENDAR
PRODID:NingEventWidget-v1
VERSION:2.0
METHOD:PUBLISH
BEGIN:VTIMEZONE
TZID:America/Los_Angeles
X-LIC-LOCATION:America/Los_Angeles
BEGIN:DAYLIGHT
TZOFFSETFROM:-0800
TZOFFSETTO:-0700
TZNAME:PDT
DTSTART:19700308T020000
RRULE:FREQ=YEARLY;BYMONTH=3;BYDAY=2SU
END:DAYLIGHT
BEGIN:STANDARD
TZOFFSETFROM:-0700
TZOFFSETTO:-0800
TZNAME:PST
DTSTART:19701101T020000
RRULE:FREQ=YEARLY;BYMONTH=11;BYDAY=1SU
END:STANDARD
END:VTIMEZONE
BEGIN:VEVENT
UID:1464587:Event:550086
DTSTAMP:20260421T051057Z
SUMMARY:TECH N9NE (Chicago)
DESCRIPTION:\nDate\nLocation\nEvent Details\nFind Tickets\n\n\nMAY  
 \n10\nSUN\n\nHouse of Blues ChicagoChicago, IL 06:30 PM \n\n TECH N
 9NE  Details: TECH N9NE, Krizz Kaliko, Chris Webby, more...\nSee T
 icketson Live Nation\n\n\n\n\n\n\n\nFor more information visit http://
 trueskool.com/events/tech-n9ne-chicago-2
DTSTART;TZID=America/Los_Angeles:20150510T183000
DTEND;TZID=America/Los_Angeles:20150510T230000
CATEGORIES:chicago, chi, illinois
LOCATION:House of Blues, Chicago
WEBSITE:http://concerts.livenation.com/event/04004E47CE3045A3?tm_link=
 artist_msg-0_04004E47CE3045A3&crosssite=TM_US:1405093:32905
URL:http://concerts.livenation.com/event/04004E47CE3045A3?tm_link=arti
 st_msg-0_04004E47CE3045A3&crosssite=TM_US:1405093:32905
CONTACT:
ORGANIZER;CN="Editor's Pick":http://trueskool.com/profile/RentheVinylA
 rchaeologist
ATTACH;FMTTYPE="image/jpeg":http://storage.ning.com/topology/rest/1.0/
 file/get/2247944467?profile=original
ATTENDEE;ROLE=REQ-PARTICIPANT;PARTSTAT=ACCEPTED;RSVP=TRUE;CN="Editor's
  Pick":http://trueskool.com/profile/RentheVinylArchaeologist
END:VEVENT
END:VCALENDAR
