BEGIN:VCALENDAR
PRODID:NingEventWidget-v1
VERSION:2.0
METHOD:PUBLISH
BEGIN:VTIMEZONE
TZID:America/Los_Angeles
X-LIC-LOCATION:America/Los_Angeles
BEGIN:DAYLIGHT
TZOFFSETFROM:-0800
TZOFFSETTO:-0700
TZNAME:PDT
DTSTART:19700308T020000
RRULE:FREQ=YEARLY;BYMONTH=3;BYDAY=2SU
END:DAYLIGHT
BEGIN:STANDARD
TZOFFSETFROM:-0700
TZOFFSETTO:-0800
TZNAME:PST
DTSTART:19701101T020000
RRULE:FREQ=YEARLY;BYMONTH=11;BYDAY=1SU
END:STANDARD
END:VTIMEZONE
BEGIN:VEVENT
UID:1464587:Event:314377
DTSTAMP:20260421T001720Z
SUMMARY:TECH N9NE (Atlanta)
DESCRIPTION:\nTECH N9NE\n\n\nDetails:Â TECH N9NE,Â Krizz Kaliko,Â Fred
 die Gibbs,Jarren Benton,Â Psych Ward Druggies\n\n\nMasqueradeAtlanta,Â
  GAÂ \n\nÂ Sat, Â 04/19/14Â 07:00 PM\n\nÂ Find Â  Â TicketsÂ Â»\n\n\n\
 n\n\nFor more information visit http://trueskool.com/events/tech-n9ne-
 atlanta
DTSTART;TZID=America/Los_Angeles:20140419T190000
DTEND;TZID=America/Los_Angeles:20140419T230000
CATEGORIES:atlanta
LOCATION:Masquerade, Atlanta
WEBSITE:http://www.ticketmaster.com/tech-n9ne-atlanta-georgia-04-19-20
 14/event/0E004C44D8D79954?artistid=1405093&majorcatid=10001&minorcatid
 =3&tm_link=browse_msg-0_0E004C44D8D79954
URL:http://www.ticketmaster.com/tech-n9ne-atlanta-georgia-04-19-2014/e
 vent/0E004C44D8D79954?artistid=1405093&majorcatid=10001&minorcatid=3&t
 m_link=browse_msg-0_0E004C44D8D79954
CONTACT:
ORGANIZER;CN="Editor's Pick":http://trueskool.com/profile/RentheVinylA
 rchaeologist
ATTACH;FMTTYPE="image/jpeg":http://storage.ning.com/topology/rest/1.0/
 file/get/2247944467?profile=original
ATTENDEE;ROLE=REQ-PARTICIPANT;PARTSTAT=ACCEPTED;RSVP=TRUE;CN="Editor's
  Pick":http://trueskool.com/profile/RentheVinylArchaeologist
END:VEVENT
END:VCALENDAR
