BEGIN:VCALENDAR
PRODID:NingEventWidget-v1
VERSION:2.0
METHOD:PUBLISH
BEGIN:VTIMEZONE
TZID:America/Los_Angeles
X-LIC-LOCATION:America/Los_Angeles
BEGIN:DAYLIGHT
TZOFFSETFROM:-0800
TZOFFSETTO:-0700
TZNAME:PDT
DTSTART:19700308T020000
RRULE:FREQ=YEARLY;BYMONTH=3;BYDAY=2SU
END:DAYLIGHT
BEGIN:STANDARD
TZOFFSETFROM:-0700
TZOFFSETTO:-0800
TZNAME:PST
DTSTART:19701101T020000
RRULE:FREQ=YEARLY;BYMONTH=11;BYDAY=1SU
END:STANDARD
END:VTIMEZONE
BEGIN:VEVENT
UID:1464587:Event:644663
DTSTAMP:20260421T034413Z
SUMMARY:TANK
DESCRIPTION:Tank\nSex Love & Pain TourThu, Mar 31, 2016 - 8:00PMAges: 
 All AgesDoors Open: 7:00PMPrice: $35.00 - $47.50Onsale: Fri, Feb 26, 2
 016 - 10:00AM PST\n\nFor more information visit http://trueskool.com/e
 vents/tank-1
DTSTART;TZID=America/Los_Angeles:20160331T200000
DTEND;TZID=America/Los_Angeles:20160331T230000
CATEGORIES:"san francisco", oakland, berkley, "san jose", "bay area"
LOCATION:The Regency Ballroom, San Francisco
WEBSITE:http://www.axs.com/events/307514/tank-tickets?skin=goldenvoice
URL:http://www.axs.com/events/307514/tank-tickets?skin=goldenvoice
CONTACT:
ORGANIZER;CN="Editor's Pick":http://trueskool.com/profile/RentheVinylA
 rchaeologist
ATTACH;FMTTYPE="image/jpeg":http://storage.ning.com/topology/rest/1.0/
 file/get/2247984969?profile=original
ATTENDEE;ROLE=REQ-PARTICIPANT;PARTSTAT=ACCEPTED;RSVP=TRUE;CN="Editor's
  Pick":http://trueskool.com/profile/RentheVinylArchaeologist
END:VEVENT
END:VCALENDAR
