BEGIN:VCALENDAR
PRODID:NingEventWidget-v1
VERSION:2.0
METHOD:PUBLISH
BEGIN:VTIMEZONE
TZID:America/Los_Angeles
X-LIC-LOCATION:America/Los_Angeles
BEGIN:DAYLIGHT
TZOFFSETFROM:-0800
TZOFFSETTO:-0700
TZNAME:PDT
DTSTART:19700308T020000
RRULE:FREQ=YEARLY;BYMONTH=3;BYDAY=2SU
END:DAYLIGHT
BEGIN:STANDARD
TZOFFSETFROM:-0700
TZOFFSETTO:-0800
TZNAME:PST
DTSTART:19701101T020000
RRULE:FREQ=YEARLY;BYMONTH=11;BYDAY=1SU
END:STANDARD
END:VTIMEZONE
BEGIN:VEVENT
UID:1464587:Event:554259
DTSTAMP:20260421T011115Z
SUMMARY:Talib Kweli (New Orleans)
DESCRIPTION:\nDate\nLocation\nEvent Details\nFind Tickets\n\n\nAPR  
 \n4\nSAT\n\nHouse of Blues New OrleansNew Orleans, LA08:00 PM\n\nTali
 b Kweli & Immortal Technique - The People's Champion TourDetails: Tali
 b Kweli, Immortal Technique\nSee Ticketson Live Nation\n\n\n\n\n\nFor
  more information visit http://trueskool.com/events/talib-kweli-new-or
 leans
DTSTART;TZID=America/Los_Angeles:20150404T200000
DTEND;TZID=America/Los_Angeles:20150404T230000
CATEGORIES:"new orleans", louisiana, la
LOCATION:House of Blues, New Orleans
WEBSITE:http://www.ticketmaster.com/partner_redirect?v=cO6KgqH05LtTTBc
 I-4BLY6dYuVc8HH0tO1vQj34XZZb9Qzo4HMfMgejwtti9ZZv4GRi6kobzSL_vjyogw6nz4
 pYPWUDrPqiTUJLJJrLVeIdjP3lcJZCR3RFiRA8rNz2Z5PpuZA&eventid=1B004E31A6E2
 3FD8&artistid=806239&artistname=Talib%20Kweli%20&%20Immortal%20Techniq
 ue%20-%20The%20People%27s%20Champion%20Tour&crosssite=TM_US:806239:221
 834&tm_link=artist_msg-0_1B004E31A6E23FD8
URL:http://www.ticketmaster.com/partner_redirect?v=cO6KgqH05LtTTBcI-4B
 LY6dYuVc8HH0tO1vQj34XZZb9Qzo4HMfMgejwtti9ZZv4GRi6kobzSL_vjyogw6nz4pYPW
 UDrPqiTUJLJJrLVeIdjP3lcJZCR3RFiRA8rNz2Z5PpuZA&eventid=1B004E31A6E23FD8
 &artistid=806239&artistname=Talib%20Kweli%20&%20Immortal%20Technique%2
 0-%20The%20People%27s%20Champion%20Tour&crosssite=TM_US:806239:221834&
 tm_link=artist_msg-0_1B004E31A6E23FD8
CONTACT:
ORGANIZER;CN="Editor's Pick":http://trueskool.com/profile/RentheVinylA
 rchaeologist
ATTACH;FMTTYPE="image/jpeg":http://storage.ning.com/topology/rest/1.0/
 file/get/2247893290?profile=original
ATTENDEE;ROLE=REQ-PARTICIPANT;PARTSTAT=ACCEPTED;RSVP=TRUE;CN="Editor's
  Pick":http://trueskool.com/profile/RentheVinylArchaeologist
END:VEVENT
END:VCALENDAR
