BEGIN:VCALENDAR
PRODID:NingEventWidget-v1
VERSION:2.0
METHOD:PUBLISH
BEGIN:VTIMEZONE
TZID:America/Los_Angeles
X-LIC-LOCATION:America/Los_Angeles
BEGIN:DAYLIGHT
TZOFFSETFROM:-0800
TZOFFSETTO:-0700
TZNAME:PDT
DTSTART:19700308T020000
RRULE:FREQ=YEARLY;BYMONTH=3;BYDAY=2SU
END:DAYLIGHT
BEGIN:STANDARD
TZOFFSETFROM:-0700
TZOFFSETTO:-0800
TZNAME:PST
DTSTART:19701101T020000
RRULE:FREQ=YEARLY;BYMONTH=11;BYDAY=1SU
END:STANDARD
END:VTIMEZONE
BEGIN:VEVENT
UID:1464587:Event:542835
DTSTAMP:20260421T012055Z
SUMMARY:Talib Kweli & Immortal Technique
DESCRIPTION:Talib Kweli & Immortal Technique\nSundayMarch 22, 2015\n\n
 General Information\nSunday, March 22, 2015\nDoors 7:00 p.m. // Show 8
 :00 p.m. Tickets are $27.00 plus applicable charges.\n\n\n\nFor more i
 nformation visit http://trueskool.com/events/talib-kweli-immortal-tech
 nique
DTSTART;TZID=America/Los_Angeles:20150322T190000
DTEND;TZID=America/Los_Angeles:20150322T230000
CATEGORIES:"san francisco", oakland, berkley, "bay area"
LOCATION:The Fillmore, San Francisco
WEBSITE:http://concerts.livenation.com/event/1C004E2FB5C63F7B
URL:http://concerts.livenation.com/event/1C004E2FB5C63F7B
CONTACT:
ORGANIZER;CN="Editor's Pick":http://trueskool.com/profile/RentheVinylA
 rchaeologist
ATTACH;FMTTYPE="image/jpeg":http://storage.ning.com/topology/rest/1.0/
 file/get/2247973254?profile=original
ATTENDEE;ROLE=REQ-PARTICIPANT;PARTSTAT=ACCEPTED;RSVP=TRUE;CN="Editor's
  Pick":http://trueskool.com/profile/RentheVinylArchaeologist
END:VEVENT
END:VCALENDAR
