BEGIN:VCALENDAR
PRODID:NingEventWidget-v1
VERSION:2.0
METHOD:PUBLISH
BEGIN:VTIMEZONE
TZID:America/Los_Angeles
X-LIC-LOCATION:America/Los_Angeles
BEGIN:DAYLIGHT
TZOFFSETFROM:-0800
TZOFFSETTO:-0700
TZNAME:PDT
DTSTART:19700308T020000
RRULE:FREQ=YEARLY;BYMONTH=3;BYDAY=2SU
END:DAYLIGHT
BEGIN:STANDARD
TZOFFSETFROM:-0700
TZOFFSETTO:-0800
TZNAME:PST
DTSTART:19701101T020000
RRULE:FREQ=YEARLY;BYMONTH=11;BYDAY=1SU
END:STANDARD
END:VTIMEZONE
BEGIN:VEVENT
UID:1464587:Event:545180
DTSTAMP:20260420T214423Z
SUMMARY:Talib Kweli (Atlanta)
DESCRIPTION:\nDate\nLocation\nEvent Details\nFind Tickets\n\n\nAPR  
 \n8\nWED\n\nMasqueradeAtlanta, GA 07:00 PM\n\nTalib Kweli & Immortal
  Technique: The People's Champion TourDetails: Talib Kweli, Immortal 
 Technique\nSee Tickets\n\n\n\n\nFor more information visit http://true
 skool.com/events/talib-kweli-atlanta
DTSTART;TZID=America/Los_Angeles:20150408T190000
DTEND;TZID=America/Los_Angeles:20150408T230000
CATEGORIES:atlanta, georgia, atl
LOCATION:Masquerade, Atlanta
WEBSITE:http://www.ticketmaster.com/talib-kweli-immortal-technique-the
 -atlanta-georgia-04-08-2015/event/0E004E36F65825E4?artistid=806239&maj
 orcatid=10001&minorcatid=3&tm_link=artist_msg-0_0E004E36F65825E4
URL:http://www.ticketmaster.com/talib-kweli-immortal-technique-the-atl
 anta-georgia-04-08-2015/event/0E004E36F65825E4?artistid=806239&majorca
 tid=10001&minorcatid=3&tm_link=artist_msg-0_0E004E36F65825E4
CONTACT:
ORGANIZER;CN="Editor's Pick":http://trueskool.com/profile/RentheVinylA
 rchaeologist
ATTACH;FMTTYPE="image/jpeg":http://storage.ning.com/topology/rest/1.0/
 file/get/2059274514?profile=original
ATTENDEE;ROLE=REQ-PARTICIPANT;PARTSTAT=ACCEPTED;RSVP=TRUE;CN="Editor's
  Pick":http://trueskool.com/profile/RentheVinylArchaeologist
END:VEVENT
END:VCALENDAR
