BEGIN:VCALENDAR
PRODID:NingEventWidget-v1
VERSION:2.0
METHOD:PUBLISH
BEGIN:VTIMEZONE
TZID:America/Los_Angeles
X-LIC-LOCATION:America/Los_Angeles
BEGIN:DAYLIGHT
TZOFFSETFROM:-0800
TZOFFSETTO:-0700
TZNAME:PDT
DTSTART:19700308T020000
RRULE:FREQ=YEARLY;BYMONTH=3;BYDAY=2SU
END:DAYLIGHT
BEGIN:STANDARD
TZOFFSETFROM:-0700
TZOFFSETTO:-0800
TZNAME:PST
DTSTART:19701101T020000
RRULE:FREQ=YEARLY;BYMONTH=11;BYDAY=1SU
END:STANDARD
END:VTIMEZONE
BEGIN:VEVENT
UID:1464587:Event:550198
DTSTAMP:20260420T214707Z
SUMMARY:Talib Kweli And Immortal Technique (Los Angeles)
DESCRIPTION:\nDate\nLocation\nEvent Details\nFind Tickets\n\n\nMAR  
 \n25\nWED\n\nHouse of Blues Sunset StripWest Hollywood, CA 08:00 PM\
 n\nTalib Kweli And Immortal TechniqueDetails: Talib Kweli, Immortal T
 echnique\nSee Tickets\n\n\n\n\nFor more information visit http://trues
 kool.com/events/talib-kweli-and-immortal-technique-los-angeles
DTSTART;TZID=America/Los_Angeles:20150325T200000
DTEND;TZID=America/Los_Angeles:20150325T230000
CATEGORIES:"los angeles", la, "west hollywood", california
LOCATION:House of Blues Sunset Strip, West Hollwood
WEBSITE:http://www.ticketmaster.com/partner_redirect?v=LDn9-LT58W7hPL2
 85VAYWIGFPeXsBsrCMBgbFeZQmQAwnSvOURRbIQN_azjsdq_bLW6QmwHyn909wHH48XBzm
 74Bh2hUqxvxZOBGxBLFJ73Jdw6RFExYEKuSwwHuugzKn8wk-A&eventid=09004E2F2F9A
 534B&artistid=806239&artistname=Talib%20Kweli%20And%20Immortal%20Techn
 ique&crosssite=TM_US:806239:73807&tm_link=artist_msg-0_09004E2F2F9A534
 B
URL:http://www.ticketmaster.com/partner_redirect?v=LDn9-LT58W7hPL285VA
 YWIGFPeXsBsrCMBgbFeZQmQAwnSvOURRbIQN_azjsdq_bLW6QmwHyn909wHH48XBzm74Bh
 2hUqxvxZOBGxBLFJ73Jdw6RFExYEKuSwwHuugzKn8wk-A&eventid=09004E2F2F9A534B
 &artistid=806239&artistname=Talib%20Kweli%20And%20Immortal%20Technique
 &crosssite=TM_US:806239:73807&tm_link=artist_msg-0_09004E2F2F9A534B
CONTACT:
ORGANIZER;CN="Editor's Pick":http://trueskool.com/profile/RentheVinylA
 rchaeologist
ATTACH;FMTTYPE="image/jpeg":http://storage.ning.com/topology/rest/1.0/
 file/get/2247893290?profile=original
ATTENDEE;ROLE=REQ-PARTICIPANT;PARTSTAT=ACCEPTED;RSVP=TRUE;CN="Editor's
  Pick":http://trueskool.com/profile/RentheVinylArchaeologist
END:VEVENT
END:VCALENDAR
