BEGIN:VCALENDAR
PRODID:NingEventWidget-v1
VERSION:2.0
METHOD:PUBLISH
BEGIN:VTIMEZONE
TZID:America/Los_Angeles
X-LIC-LOCATION:America/Los_Angeles
BEGIN:DAYLIGHT
TZOFFSETFROM:-0800
TZOFFSETTO:-0700
TZNAME:PDT
DTSTART:19700308T020000
RRULE:FREQ=YEARLY;BYMONTH=3;BYDAY=2SU
END:DAYLIGHT
BEGIN:STANDARD
TZOFFSETFROM:-0700
TZOFFSETTO:-0800
TZNAME:PST
DTSTART:19701101T020000
RRULE:FREQ=YEARLY;BYMONTH=11;BYDAY=1SU
END:STANDARD
END:VTIMEZONE
BEGIN:VEVENT
UID:1464587:Event:652575
DTSTAMP:20260420T115735Z
SUMMARY:Talent Unlimited 2
DESCRIPTION:Checkout hot upcoming local music artists perform at The R
 ed Victorian live Fri Sept 2nd 6pm,\nFeatured performances by Eye'z, Y
 oungRoka, Shaynie, Numilz, Nyre and Imerald Brown.\n\nAudience members
  who remain for duration of show will have a chance to win prizes.\n\n
 The Red Victorian 1665 Haight St. San Francisco\nGet your tickets at t
 alentunltd2.eventbrite.com\n\nCall or text 510-606-5431 for more infor
 mation.\n\n\n\nFor more information visit http://trueskool.com/events/
 talent-unlimited-2
DTSTART;TZID=America/Los_Angeles:20160902T180000
DTEND;TZID=America/Los_Angeles:20160902T210000
CATEGORIES:san, francisco, hip, hop, rap, bay, area, pop, music, rock
LOCATION:The Red Victorian
WEBSITE:
URL:
CONTACT:510-606-5431
ORGANIZER;CN="D Blk":http://trueskool.com/profile/DBlk
ATTACH;FMTTYPE="image/jpeg":http://storage.ning.com/topology/rest/1.0/
 file/get/2247990533?profile=original
ATTENDEE;ROLE=REQ-PARTICIPANT;PARTSTAT=ACCEPTED;RSVP=TRUE;CN="D Blk":h
 ttp://trueskool.com/profile/DBlk
END:VEVENT
END:VCALENDAR
