BEGIN:VCALENDAR
PRODID:NingEventWidget-v1
VERSION:2.0
METHOD:PUBLISH
BEGIN:VTIMEZONE
TZID:America/Los_Angeles
X-LIC-LOCATION:America/Los_Angeles
BEGIN:DAYLIGHT
TZOFFSETFROM:-0800
TZOFFSETTO:-0700
TZNAME:PDT
DTSTART:19700308T020000
RRULE:FREQ=YEARLY;BYMONTH=3;BYDAY=2SU
END:DAYLIGHT
BEGIN:STANDARD
TZOFFSETFROM:-0700
TZOFFSETTO:-0800
TZNAME:PST
DTSTART:19701101T020000
RRULE:FREQ=YEARLY;BYMONTH=11;BYDAY=1SU
END:STANDARD
END:VTIMEZONE
BEGIN:VEVENT
UID:1464587:Event:660868
DTSTAMP:20260421T041525Z
SUMMARY:T.I. The Hustle Gang Tour
DESCRIPTION:\nTUESDAY, MAY 30 T.I.\nHustle Gang Tour\n\n@ The Mezzanin
 e, SF >> BUY TICKETS\n\n\nOnce dubbed “the Jay-Z of the South” by 
 Pharrell Williams, T.I. gradually came into his own and established hi
 mself as one of rap’s most successful MCs during the early 2000s. Li
 ke Jay-Z, T.I. — born Clifford Harris in Atlanta, Georgia — carrie
 d a balance of smoothness and toughness, and although 2001’s I’m S
 erious didn’t shoot him out of the gate à la Reasonable Doubt, he c
 onsistently grew and launched a string of major hits with 2003’s “
 24’s.” Throughout the six following years, T.I. maintained a consi
 stent presence on urban radio stations in America: 2003’s Trap Muzik
 , 2004’s Urban Legend, 2006’s King (released in tandem with T.I.
 s debut screen appearance in ATL), 2007’s T.I. vs T.I.P., and 2008
 s Paper Trail — all released through the MC’s deal with Atlantic
  — were Top Ten albums, with the latter three even spending time at 
 the very top of the chart. \n\nFor more information visit http://trues
 kool.com/events/t-i-the-hustle-gang-tour
DTSTART;TZID=America/Los_Angeles:20170530T210000
DTEND;TZID=America/Los_Angeles:20170531T020000
CATEGORIES:"san francisco", "bay area"
LOCATION:Mezzanine, San Francisco
WEBSITE:https://www.eventbrite.com/e/ti-the-hustle-gang-tour-at-mezzan
 ine-tickets-32860657110?discount=TRUESKOOL
URL:https://www.eventbrite.com/e/ti-the-hustle-gang-tour-at-mezzanine-
 tickets-32860657110?discount=TRUESKOOL
CONTACT:4156258880
ORGANIZER;CN=MezzanineSF:http://trueskool.com/profile/MezzanineSF
ATTACH;FMTTYPE="image/jpeg":http://storage.ning.com/topology/rest/1.0/
 file/get/2247995226?profile=original
ATTENDEE;ROLE=REQ-PARTICIPANT;PARTSTAT=ACCEPTED;RSVP=TRUE;CN=Mezzanine
 SF:http://trueskool.com/profile/MezzanineSF
END:VEVENT
END:VCALENDAR
