BEGIN:VCALENDAR
PRODID:NingEventWidget-v1
VERSION:2.0
METHOD:PUBLISH
BEGIN:VTIMEZONE
TZID:America/Los_Angeles
X-LIC-LOCATION:America/Los_Angeles
BEGIN:DAYLIGHT
TZOFFSETFROM:-0800
TZOFFSETTO:-0700
TZNAME:PDT
DTSTART:19700308T020000
RRULE:FREQ=YEARLY;BYMONTH=3;BYDAY=2SU
END:DAYLIGHT
BEGIN:STANDARD
TZOFFSETFROM:-0700
TZOFFSETTO:-0800
TZNAME:PST
DTSTART:19701101T020000
RRULE:FREQ=YEARLY;BYMONTH=11;BYDAY=1SU
END:STANDARD
END:VTIMEZONE
BEGIN:VEVENT
UID:1464587:Event:646844
DTSTAMP:20260420T122033Z
SUMMARY:Sweater Funk Presents Psychic Mirrors *LIVE* Elbo Room 4/30/16
DESCRIPTION:Sweater Funk PresentsPSYCHIC MIRRORS - LIVE!(Cosmic Chroni
 c Records, Miami)Elbo Room647 Valencia (@ Sycamore)10 PM / 21+$10 pre 
 sale / $15 Doorhttp://www.brownpapertickets.com/event/2534326Sweater F
 unk is proud to bring one of our favorite live bands back to San Franc
 isco! We've been thoroughly rinsing thier records at our weekly for th
 e last coupla years, and we can't wait for the release of their new al
 bum, Nature Of Evil. Psychic Mirrors is a six-piece band from Miami, 
 FL; formed in 2010. Their music is an amalgam of boogie funk, yacht ro
 ck and wavy synth jazz. Known for tracks like “I Come for Your Love,
 ” “The Witching Hour” and “Charlene,” the group began cuttin
 g singles on their home label Cosmic Chronic in 2011, ultimately gaini
 ng the attention of Peoples Potential Unlimited and Red Bull Music Aca
 demy (where bandleader Mickey de Grand IV spent October of 2014 partic
 ipating in RBMA Tokyo). Following the release of their debut LP Nature
  of Evil in April 2016, the ensemble will be making their way across t
 he US and Canada to showcase their modern Caribbean sound.\n\nFor more
  information visit http://trueskool.com/events/sweater-funk-presents-p
 sychic-mirrors-live-elbo-room-4-30-16
DTSTART;TZID=America/Los_Angeles:20160430T220000
DTEND;TZID=America/Los_Angeles:20160501T020000
CATEGORIES:"elbo room", "san francisco", "bay area", "modern funk", "m
 odern soul", boogie, funk, disco, "sweater funk", "cosmic chronic", "'
 sweater", "funk\""
LOCATION:Elbo Room, San Francisco, California
WEBSITE:http://www.brownpapertickets.com/event/2534326
URL:http://www.brownpapertickets.com/event/2534326
CONTACT:
ORGANIZER;CN="Jacob Pena":http://trueskool.com/profile/JacobPena
ATTACH;FMTTYPE="image/jpeg":http://storage.ning.com/topology/rest/1.0/
 file/get/2247987945?profile=original
END:VEVENT
END:VCALENDAR
