BEGIN:VCALENDAR
PRODID:NingEventWidget-v1
VERSION:2.0
METHOD:PUBLISH
BEGIN:VTIMEZONE
TZID:America/Los_Angeles
X-LIC-LOCATION:America/Los_Angeles
BEGIN:DAYLIGHT
TZOFFSETFROM:-0800
TZOFFSETTO:-0700
TZNAME:PDT
DTSTART:19700308T020000
RRULE:FREQ=YEARLY;BYMONTH=3;BYDAY=2SU
END:DAYLIGHT
BEGIN:STANDARD
TZOFFSETFROM:-0700
TZOFFSETTO:-0800
TZNAME:PST
DTSTART:19701101T020000
RRULE:FREQ=YEARLY;BYMONTH=11;BYDAY=1SU
END:STANDARD
END:VTIMEZONE
BEGIN:VEVENT
UID:1464587:Event:536596
DTSTAMP:20260420T210045Z
SUMMARY:Sweater Funk Presents: Dam-Funk (DJ Set) at Monarch 3/13/15
DESCRIPTION:Sweater Funk Presents\nan all vinyl dj set from:DAM-FUNK (
 Stones Throw Records)With DJ support from San Francisco's Sweater Funk
  crewMonarch 101 6th Street(at Mission)San Francisco 9:30 PM - 2 AM$
 13 & $15 presale tickets / $20 doorNo one really epitomizes the curren
 t modern funk / boogie revival scene like Dam-Funk. A true funk soldie
 r of love, D-F has been holding it down for real funk music a lot long
 er than some of the current modern funk producers have been alive. Tha
 t's an undeniable fact when you go back and listen to his demos he fre
 ely shares from back in the day. The man has been making raw analog fu
 nk with no samples or loops for decades. Then there's the records. Dam
  Funk's boogie cds are legendary. Talked about amongst funk heads like
  a Dilla beat tape or one of Larry Levan's personal white labels. You'
 d hear the rarest funk, some obscure album cut you overlooked or maybe
  even a new wave artist you never even associated with jheri curls and
  leather pants. Dam-Funk is the master at showing you the funk where y
 ou forgot to look for it. Sweater Funk and Monarch are absolutely sto
 ked to bring you the one and only Dam-Funk to Monarch on Friday March 
 13! It's been a while since Dam-Funk dropped a set here in San Francis
 co, and even longer since the Sweater Funk crew has been able to share
  the decks with our brother from Pasadena. This one is for the funk fa
 ns out there who like it deep and raw on the dance floor!\n\nFor more 
 information visit http://trueskool.com/events/sweater-funk-presents-da
 m-funk-dj-set-at-monarch-3-13-15
DTSTART;TZID=America/Los_Angeles:20150313T210000
DTEND;TZID=America/Los_Angeles:20150314T020000
CATEGORIES:"san francisco"
LOCATION:Monarch, San Francisco, CA
WEBSITE:http://www.monarchsf.com/event/776797-dam-funk-san-francisco/
URL:http://www.monarchsf.com/event/776797-dam-funk-san-francisco/
CONTACT:
ORGANIZER;CN="Jacob Pena":http://trueskool.com/profile/JacobPena
ATTACH;FMTTYPE="image/jpeg":http://storage.ning.com/topology/rest/1.0/
 file/get/2247973552?profile=original
ATTENDEE;ROLE=REQ-PARTICIPANT;PARTSTAT=ACCEPTED;RSVP=TRUE;CN="Jacob Pe
 na":http://trueskool.com/profile/JacobPena
END:VEVENT
END:VCALENDAR
