BEGIN:VCALENDAR
PRODID:NingEventWidget-v1
VERSION:2.0
METHOD:PUBLISH
BEGIN:VTIMEZONE
TZID:America/Los_Angeles
X-LIC-LOCATION:America/Los_Angeles
BEGIN:DAYLIGHT
TZOFFSETFROM:-0800
TZOFFSETTO:-0700
TZNAME:PDT
DTSTART:19700308T020000
RRULE:FREQ=YEARLY;BYMONTH=3;BYDAY=2SU
END:DAYLIGHT
BEGIN:STANDARD
TZOFFSETFROM:-0700
TZOFFSETTO:-0800
TZNAME:PST
DTSTART:19701101T020000
RRULE:FREQ=YEARLY;BYMONTH=11;BYDAY=1SU
END:STANDARD
END:VTIMEZONE
BEGIN:VEVENT
UID:1464587:Event:404844
DTSTAMP:20260420T121802Z
SUMMARY:This Sunday: DUB MISSION's 18th Anniversary with all the resid
 ents: DJ Sep, J Boogie, Maneesh the Twister & Vinnie Esparza plus Dubt
 ronic Science LIVE at Elbo Room
DESCRIPTION:This Sunday:  Dub Mission’s 18th Anniversary celebration
  with all the resident DJs in attendance: DJ Sep, J Boogie, Maneesh th
 e Twister, and Vinnie Esparza plus J Boogie's Dubtronic Science (Om Re
 cords) LIVE\nfeaturing Aima the Dreamer, Mike Olmos, Garrett Kobseff a
 nd Enrique Padilla at Elbo Room, 647 Valencia Street, SF, CA 94110 - 2
 1 & over - 415 552 7788  9 pm to 2 am –$8 advance  $11 Door\nLimit
 ed advance tickets at http://www.brownpapertickets.com/event/819379\n 
 On Sunday, August 31st, Dub Mission celebrates 18 years of spreading t
 he dub virus throughout the Bay Area and beyond. Dub Mission’s resid
 ent DJs will have the dance floor jumping with a showcase our signatur
 e mix of modern and classic dub, roots reggae, dancehall plus touches 
 of cumbia, moombahton, tropical, rootstep, drum’n’bass, and more. 
 We’ll top it all off with a live special live performance by J Boogi
 e's Dubtronic Science featuring some of the best musicians in the Bay 
 Area improvising together as our resident DJ serves his eclectic mix o
 f his dubbed-out beats. Dub Mission is one of the longest-running part
 ies in the world, presenting cutting-edge dub, roots reggae and danceh
 all every Sunday at the Elbo Room. Voted Bay Area's Best Reggae Club b
 y S.F. Bay Guardian readers Dub Mission has featured artists from all 
 over the world, including Adrian Sherwood & the ON-U Sound System, Mad
  Professor & the Ariwa Sound System, the Scientist, Mungo's Hi Fi, Soo
 m T, Solo Banton, Jahdan Blakkamoore, Zion Train, Prince Fatty Sound S
 ystem, Twilight Circus Dub Sound System, Nickodemus from Turntables On
  The Hudson and many many others.  www.dubmission.com @djsepdubmission
  www.facebook.com/DubMissionSF www.youtube.com/dubmission www.soundclo
 ud.com/dubmissionsf for free downloads  www.instagram.com/dubmissionsf
  for exclusive photos www.google.com/+DJSEP\n\nFor more information vi
 sit http://trueskool.com/events/sunday-august-31st-dub-mission-s-18th-
 anniversary-with-all-the
DTSTART;TZID=America/Los_Angeles:20140831T210000
DTEND;TZID=America/Los_Angeles:20140901T020000
CATEGORIES:dubtronic, science, club, party, reggae, dance, dancehall, 
 san, francisco, nightlife, sep, vinnie, esparza, j, boogie, anniversar
 y, best
LOCATION:Elbo Room
WEBSITE:http://www.elbo.com
URL:http://www.elbo.com
CONTACT:4155527788
ORGANIZER;CN="DJ SEP":http://trueskool.com/profile/DJSEP
ATTACH;FMTTYPE="image/jpeg":http://storage.ning.com/topology/rest/1.0/
 file/get/2247965357?profile=original
ATTENDEE;ROLE=REQ-PARTICIPANT;PARTSTAT=ACCEPTED;RSVP=TRUE;CN="DJ SEP":
 http://trueskool.com/profile/DJSEP
ATTENDEE;ROLE=REQ-PARTICIPANT;PARTSTAT=TENTATIVE;RSVP=TRUE;CN="Lamont 
 Snaer":http://trueskool.com/profile/LamontSnaer
END:VEVENT
END:VCALENDAR
