BEGIN:VCALENDAR
PRODID:NingEventWidget-v1
VERSION:2.0
METHOD:PUBLISH
BEGIN:VTIMEZONE
TZID:America/Los_Angeles
X-LIC-LOCATION:America/Los_Angeles
BEGIN:DAYLIGHT
TZOFFSETFROM:-0800
TZOFFSETTO:-0700
TZNAME:PDT
DTSTART:19700308T020000
RRULE:FREQ=YEARLY;BYMONTH=3;BYDAY=2SU
END:DAYLIGHT
BEGIN:STANDARD
TZOFFSETFROM:-0700
TZOFFSETTO:-0800
TZNAME:PST
DTSTART:19701101T020000
RRULE:FREQ=YEARLY;BYMONTH=11;BYDAY=1SU
END:STANDARD
END:VTIMEZONE
BEGIN:VEVENT
UID:1464587:Event:627592
DTSTAMP:20260421T070314Z
SUMMARY:SUMMER SOUL ROLLER DISCO FT. PEANUT BUTTER WOLF
DESCRIPTION:We’re bringing back the legendary roller disco to Mezzan
 ine! This time with a ‘Soul’ twist! Bring your own skates or rent 
 ours for $5!\n\nChris Manak aka Peanut Butter Wolf first started buy
 ing records in San Jose, CA in 1979 at age 9. It was mainly soul/funk 
 45s by artists like Cameo, the Gap Band, and Rick James. By the mid 80
 ’s, he was DJing and making his own beats for MCs and a few years la
 ter, he met 16-year-old rapper Charizma and they soon signed with Holl
 ywood Records. In December 1993, the world lost Charizma to gun violen
 ce. Wolf took a break.\n“Making beats” eventually became therapy f
 or the next few years and in 1996, he started Stones Throw Records out
  of his bedroom as a vinyl-only record label that catered to DJs. His 
 own album My Vinyl Weighs A Ton, was the most successful release of th
 e label’s early years. In 2001, Wolf moved to Los Angeles, bringing 
 hip hop artist Madlib along with him, who became the center of the lab
 el for many years. When Madlib made Quasimoto’s The Unseen, Stones T
 hrow saw a turning point and defied more conventions with each year.\n
 Peanut Butter Wolf the label founder still enjoys a DJ career that has
  taken him around the world since 1992. Whether it’s a private dinne
 r party for Bill Clinton, a string of dates with the Beastie Boys, Gwe
 n Stefani’s birthday party, or his own high school reunion, Wolf is 
 equally at home behind the turntables.\n\nFor more information visit h
 ttp://trueskool.com/events/summer-soul-roller-disco-ft-peanut-butter-w
 olf
DTSTART;TZID=America/Los_Angeles:20150509T210000
DTEND;TZID=America/Los_Angeles:20150510T020000
CATEGORIES:san, francisco, bay, area, mezzanine
LOCATION:Mezzanine, San Francisco, California
WEBSITE:http://mezzaninesf.com/events/summer-soul-roller-disco-ft-pean
 ut-butter-wolf/
URL:http://mezzaninesf.com/events/summer-soul-roller-disco-ft-peanut-b
 utter-wolf/
CONTACT:415.625.8880
ORGANIZER:MezzanineSF and Ankh
ATTACH;FMTTYPE="image/jpeg":http://storage.ning.com/topology/rest/1.0/
 file/get/2247975392?profile=original
ATTENDEE;ROLE=REQ-PARTICIPANT;PARTSTAT=ACCEPTED;RSVP=TRUE;CN=Mezzanine
 SF:http://trueskool.com/profile/MezzanineSF
END:VEVENT
END:VCALENDAR
