BEGIN:VCALENDAR
PRODID:NingEventWidget-v1
VERSION:2.0
METHOD:PUBLISH
BEGIN:VTIMEZONE
TZID:America/Los_Angeles
X-LIC-LOCATION:America/Los_Angeles
BEGIN:DAYLIGHT
TZOFFSETFROM:-0800
TZOFFSETTO:-0700
TZNAME:PDT
DTSTART:19700308T020000
RRULE:FREQ=YEARLY;BYMONTH=3;BYDAY=2SU
END:DAYLIGHT
BEGIN:STANDARD
TZOFFSETFROM:-0700
TZOFFSETTO:-0800
TZNAME:PST
DTSTART:19701101T020000
RRULE:FREQ=YEARLY;BYMONTH=11;BYDAY=1SU
END:STANDARD
END:VTIMEZONE
BEGIN:VEVENT
UID:1464587:Event:333051
DTSTAMP:20260421T000409Z
SUMMARY:Sugar 2.0
DESCRIPTION:Sugar is sweetness, profit, addiction, a substitute for lo
 ve. Sometimes love itself...  Join SoleSpace for Eesuu Orundide's 'S
 ugar 2.0' - a powerful new show that revisits the legacy of sugar thro
 ugh a collection of mixed media art works on wood panels. It's a legac
 y so deep and broad that's it's almost impossible to deal with in tot
 al.   The pieces are a mashup of ideas, feelings, realities and techn
 iques. Each one is a limited edition original and will be available fo
 r sale.  Eesuu Orundide is an Oakland based visual artist who's work s
 erves as a form of activism.   OPENING NIGHT: 7pm to 11pm - FREE & AL
 L AGES Beats - DJ Baagi Sweets - Midnight Delights Sweet kicks - Sole
 Space\n\nFor more information visit http://trueskool.com/events/sugar-
 2-0
DTSTART;TZID=America/Los_Angeles:20140404T190000
DTEND;TZID=America/Los_Angeles:20140426T190000
CATEGORIES:oakland, bay, area, uptown
LOCATION:SoleSpace, Oakland
WEBSITE:https://www.facebook.com/events/759208624090222/76003983400710
 1/?notif_t=like
URL:https://www.facebook.com/events/759208624090222/760039834007101/?n
 otif_t=like
CONTACT:
ORGANIZER;CN="Eesuu Orundide":http://trueskool.com/profile/EesuuOrundi
 de
ATTACH;FMTTYPE="image/jpeg":http://storage.ning.com/topology/rest/1.0/
 file/get/2247959482?profile=original
ATTENDEE;ROLE=REQ-PARTICIPANT;PARTSTAT=ACCEPTED;RSVP=TRUE;CN="Eesuu Or
 undide":http://trueskool.com/profile/EesuuOrundide
END:VEVENT
END:VCALENDAR
