BEGIN:VCALENDAR
PRODID:NingEventWidget-v1
VERSION:2.0
METHOD:PUBLISH
BEGIN:VTIMEZONE
TZID:America/Los_Angeles
X-LIC-LOCATION:America/Los_Angeles
BEGIN:DAYLIGHT
TZOFFSETFROM:-0800
TZOFFSETTO:-0700
TZNAME:PDT
DTSTART:19700308T020000
RRULE:FREQ=YEARLY;BYMONTH=3;BYDAY=2SU
END:DAYLIGHT
BEGIN:STANDARD
TZOFFSETFROM:-0700
TZOFFSETTO:-0800
TZNAME:PST
DTSTART:19701101T020000
RRULE:FREQ=YEARLY;BYMONTH=11;BYDAY=1SU
END:STANDARD
END:VTIMEZONE
BEGIN:VEVENT
UID:1464587:Event:284097
DTSTAMP:20260420T201444Z
SUMMARY:Steve Lawler (UK)
DESCRIPTION:STEVE LAWLER - UK | Viva Musichttp://www.djstevelawler.com
 /https://soundcloud.com/steve-lawlerwith supportBen Seagren{Distrikt |
  Sense | The Show | BeatFreak Recordings}& Dean Samaras {Sense | The S
 how | BeatFreak Recordings}Steve Lawler, a child of the acid house gen
 eration, has been busy with the beats long before genres were but a tw
 inkle in clublandʼs eye. An electronic artist who deﬁes generic bou
 ndaries, ever since his days organising the infamous motor way raves b
 ack in the early 90ʻs underneath the M42 motor way, in the UK.As an a
 rtist: his releases & remixes have been signed by some of the worlds m
 ost established recording labels; R&S Records, Systematic, Drumcode, H
 arthouse, Cocoon, MBF, OVUM, Sci+Tec, Tsuba, Souvenir, Rekids, Boxer S
 port, Be As One, Monique, Kostbar, Soma, Skint and of course his own r
 ecording label VIVa MUSiC.As a Label Manager: Steveʼs label VIVa MUSi
 C (founded in 2006), has quickly earned a reputation for breaking new 
 talent and has featured tracks by such artists as Reboot, Audioﬂy, S
 imon Baker, Jamie Jones, Davide Squillace, Luca Bacchetti, Bushwacka, 
 Livio & Roby, Dragosh, Leon, Plasmik, Ripperton, Ilario Alicante, John
  Selway, Peace Division, Bearweasel, Tiefschwarz and of course Lawler 
 himself, amongst many others and receives heavy patronage by many Hous
 e & Techno luminaries.VIVa MUSiC works as a culmination of everything 
 thatʼs gone before; from the putting on of the aforementioned illegal
  raves, to his residency at super club Cream back in the mid 90ʼs. He
 ʼs remixed high proﬁle artists such as Jamelia, Dido and Justin Tim
 berlake and worked with many of the worlds renowned dance imprints. As
  well as recording a track for the blockbuster horror movie by Ian Sof
 tly ʻThe Skeleton Keyʼ. Heʼs released some of the industryʼs most 
 collectable mix series such as the ʻDark Drumsʼ, ʻLights Outʼ and,
  most recently, the ʻVIVaʼ series. Now on its 3rd release. The ʻVIV
 aʼ series has revealed Steveʼs widescreen vision better than any mix
  before with down tempo and deep house playing a big part in the beat 
 blend. Steve held a triumphant residency for nine years at the Baleari
 c club Space in Ibiza (a club he returned back to in 2008). His VIVa N
 ights residency where Steve played from doors open to door close at Th
 e End in London consistently sold out for its 7 years span and his res
 idency at Londonʼs Home Club was one of the infamous venueʼs only su
 ccess stories.\n\nFor more information visit http://trueskool.com/even
 ts/steve-lawler-uk
DTSTART;TZID=America/Los_Angeles:20140104T220000
DTEND;TZID=America/Los_Angeles:20140105T030000
CATEGORIES:san, francisco, bay, area, california
LOCATION:Mighty, San Francisco
WEBSITE:https://www.facebook.com/events/204931373024946/
URL:https://www.facebook.com/events/204931373024946/
CONTACT:
ORGANIZER:Mighty
ATTACH;FMTTYPE="image/jpeg":http://storage.ning.com/topology/rest/1.0/
 file/get/2247954843?profile=original
ATTENDEE;ROLE=REQ-PARTICIPANT;PARTSTAT=ACCEPTED;RSVP=TRUE;CN="Alexandr
 a Alden":http://trueskool.com/profile/AlexandraAlden
END:VEVENT
END:VCALENDAR
