BEGIN:VCALENDAR
PRODID:NingEventWidget-v1
VERSION:2.0
METHOD:PUBLISH
BEGIN:VTIMEZONE
TZID:America/Los_Angeles
X-LIC-LOCATION:America/Los_Angeles
BEGIN:DAYLIGHT
TZOFFSETFROM:-0800
TZOFFSETTO:-0700
TZNAME:PDT
DTSTART:19700308T020000
RRULE:FREQ=YEARLY;BYMONTH=3;BYDAY=2SU
END:DAYLIGHT
BEGIN:STANDARD
TZOFFSETFROM:-0700
TZOFFSETTO:-0800
TZNAME:PST
DTSTART:19701101T020000
RRULE:FREQ=YEARLY;BYMONTH=11;BYDAY=1SU
END:STANDARD
END:VTIMEZONE
BEGIN:VEVENT
UID:1464587:Event:318130
DTSTAMP:20260421T000524Z
SUMMARY:Stephen Marley (NYC)
DESCRIPTION:\nStephen Marley\n\n\nDetails: Stephen Marley, Jo Mersa 
 Marley, Wayne Marshall\n\n\nBest Buy TheaterNew York, NY\n\nSat, 04/
 19/1407:00 PM\n\n Find  Tickets »on  Partner Site\n\n\n\n\n\nFor 
 more information visit http://trueskool.com/events/stephen-marley-nyc
DTSTART;TZID=America/Los_Angeles:20140419T190000
DTEND;TZID=America/Los_Angeles:20140419T230000
CATEGORIES:nyc
LOCATION:Best Buy Theater, NY
WEBSITE:http://www.ticketmaster.com/Stephen-Marley-tickets/artist/1104
 863
URL:http://www.ticketmaster.com/Stephen-Marley-tickets/artist/1104863
CONTACT:
ORGANIZER;CN="Editor's Pick":http://trueskool.com/profile/RentheVinylA
 rchaeologist
ATTACH;FMTTYPE="image/jpeg":http://storage.ning.com/topology/rest/1.0/
 file/get/2247950756?profile=original
ATTENDEE;ROLE=REQ-PARTICIPANT;PARTSTAT=ACCEPTED;RSVP=TRUE;CN="Editor's
  Pick":http://trueskool.com/profile/RentheVinylArchaeologist
END:VEVENT
END:VCALENDAR
