BEGIN:VCALENDAR
PRODID:NingEventWidget-v1
VERSION:2.0
METHOD:PUBLISH
BEGIN:VTIMEZONE
TZID:America/Los_Angeles
X-LIC-LOCATION:America/Los_Angeles
BEGIN:DAYLIGHT
TZOFFSETFROM:-0800
TZOFFSETTO:-0700
TZNAME:PDT
DTSTART:19700308T020000
RRULE:FREQ=YEARLY;BYMONTH=3;BYDAY=2SU
END:DAYLIGHT
BEGIN:STANDARD
TZOFFSETFROM:-0700
TZOFFSETTO:-0800
TZNAME:PST
DTSTART:19701101T020000
RRULE:FREQ=YEARLY;BYMONTH=11;BYDAY=1SU
END:STANDARD
END:VTIMEZONE
BEGIN:VEVENT
UID:1464587:Event:472191
DTSTAMP:20260420T232959Z
SUMMARY:Spicy Saturdays w/ DJ Davey D & Ren the Vinyl Archaeologist @ 
 Luka's Lounge, Oakland (Sat, 11/29)
DESCRIPTION:\n\nSATURDAY, NOV 29 Spicy Saturdays\nHoliday Season Editi
 on\n\nFeaturing:\nDavey D Ren the Vinyl Archaeologist DJ LP\n\n@ Luka'
 s Lounge, 2221 Broadway, San Francisco 10pm-2am | 21+ w/ ID $5 B4 11pm
 , $10 After FREE B4 11pm for Ladies \n\n\nFor more information visit h
 ttp://trueskool.com/events/spicy-saturdays-w-dj-davey-d-ren-the-vinyl-
 archaeologist-luka-s-l
DTSTART;TZID=America/Los_Angeles:20141129T180000
DTEND;TZID=America/Los_Angeles:20141129T190000
CATEGORIES:"bay area", oakland
LOCATION:Luka's Taproom & Lounge, Oakland
WEBSITE:
URL:
CONTACT:
ORGANIZER:Luka's
ATTACH;FMTTYPE="image/jpeg":http://storage.ning.com/topology/rest/1.0/
 file/get/2247970647?profile=original
ATTENDEE;ROLE=REQ-PARTICIPANT;PARTSTAT=ACCEPTED;RSVP=TRUE;CN="Editor's
  Pick":http://trueskool.com/profile/RentheVinylArchaeologist
END:VEVENT
END:VCALENDAR
