BEGIN:VCALENDAR
PRODID:NingEventWidget-v1
VERSION:2.0
METHOD:PUBLISH
BEGIN:VTIMEZONE
TZID:America/Los_Angeles
X-LIC-LOCATION:America/Los_Angeles
BEGIN:DAYLIGHT
TZOFFSETFROM:-0800
TZOFFSETTO:-0700
TZNAME:PDT
DTSTART:19700308T020000
RRULE:FREQ=YEARLY;BYMONTH=3;BYDAY=2SU
END:DAYLIGHT
BEGIN:STANDARD
TZOFFSETFROM:-0700
TZOFFSETTO:-0800
TZNAME:PST
DTSTART:19701101T020000
RRULE:FREQ=YEARLY;BYMONTH=11;BYDAY=1SU
END:STANDARD
END:VTIMEZONE
BEGIN:VEVENT
UID:1464587:Event:304268
DTSTAMP:20260421T005649Z
SUMMARY:\"Special Blend\"
DESCRIPTION:\nEvery last Wednesday we present to you, \"Special Blend\
 " a night featuring the dopest of Hip Hop and Reggae. We're kicking th
 is one off with two of the Bays' most classic DJs Tophone and Jah Yzer
 ! This ish is gonna go bananas! Because we're hooking ya'll up for fr
 ee on this one, early arrival is suggested. Resident Djs Mr. Murdock 
 and LazyBoy will also be handling biz! Movies \"Belly\" and \"Harder 
 they come\" will be playing on the big screen. Lsst Wednesdays10-2Sla
 te BarNo coverNo dress codeNo worries mon! \n\n\n\n\nFor more informa
 tion visit http://trueskool.com/events/special-blend
DTSTART;TZID=America/Los_Angeles:20140129T220000
DTEND;TZID=America/Los_Angeles:20140130T020000
CATEGORIES:san, francisco
LOCATION:Slate Bar, San Francisco
WEBSITE:
URL:
CONTACT:
ORGANIZER;CN="Dj Mr. Murdock":http://trueskool.com/profile/DjMrMurdock
ATTACH;FMTTYPE="image/jpeg":http://storage.ning.com/topology/rest/1.0/
 file/get/2247956553?profile=original
ATTENDEE;ROLE=REQ-PARTICIPANT;PARTSTAT=ACCEPTED;RSVP=TRUE;CN="Dj Mr. M
 urdock":http://trueskool.com/profile/DjMrMurdock
END:VEVENT
END:VCALENDAR
