BEGIN:VCALENDAR
PRODID:NingEventWidget-v1
VERSION:2.0
METHOD:PUBLISH
BEGIN:VTIMEZONE
TZID:America/Los_Angeles
X-LIC-LOCATION:America/Los_Angeles
BEGIN:DAYLIGHT
TZOFFSETFROM:-0800
TZOFFSETTO:-0700
TZNAME:PDT
DTSTART:19700308T020000
RRULE:FREQ=YEARLY;BYMONTH=3;BYDAY=2SU
END:DAYLIGHT
BEGIN:STANDARD
TZOFFSETFROM:-0700
TZOFFSETTO:-0800
TZNAME:PST
DTSTART:19701101T020000
RRULE:FREQ=YEARLY;BYMONTH=11;BYDAY=1SU
END:STANDARD
END:VTIMEZONE
BEGIN:VEVENT
UID:1464587:Event:686576
DTSTAMP:20260424T091419Z
SUMMARY:Souls of Mischief Birthday Bash at The Uptown
DESCRIPTION:Join us in wishing the crew a Happy Birthday!!!\nApril 15t
 h A-PlusApril 21st TajaiApril 22nd OpioApril 29th Phesto\nWith Hierog
 lyphics DJs Lex, Touré and DominoMarc Stretch of Heavyweight Crates\n
 Performances by Golden Age Society, StaR Playerz\nand Souls of Mischie
 f!\n$19.93 after fees21+ with ID\n\nFor more information visit http://
 trueskool.com/events/souls-of-mischief-birthday-bash-at-the-uptown
DTSTART;TZID=America/Los_Angeles:20190425T200000
DTEND;TZID=America/Los_Angeles:20190426T010000
CATEGORIES:oakland
LOCATION:Uptown Nightclub, Oakland, CA
WEBSITE:https://souls_of_mischief_birthday_bash.eventbrite.com
URL:https://souls_of_mischief_birthday_bash.eventbrite.com
CONTACT:
ORGANIZER;CN="Robbin Green-Yeh":http://trueskool.com/profile/RobbinGre
 enYeh
ATTACH;FMTTYPE="image/jpeg":https://storage.ning.com/topology/rest/1.0
 /file/get/2056171751?profile=original
ATTENDEE;ROLE=REQ-PARTICIPANT;PARTSTAT=ACCEPTED;RSVP=TRUE;CN="Robbin G
 reen-Yeh":http://trueskool.com/profile/RobbinGreenYeh
END:VEVENT
END:VCALENDAR
