BEGIN:VCALENDAR
PRODID:NingEventWidget-v1
VERSION:2.0
METHOD:PUBLISH
BEGIN:VTIMEZONE
TZID:America/Los_Angeles
X-LIC-LOCATION:America/Los_Angeles
BEGIN:DAYLIGHT
TZOFFSETFROM:-0800
TZOFFSETTO:-0700
TZNAME:PDT
DTSTART:19700308T020000
RRULE:FREQ=YEARLY;BYMONTH=3;BYDAY=2SU
END:DAYLIGHT
BEGIN:STANDARD
TZOFFSETFROM:-0700
TZOFFSETTO:-0800
TZNAME:PST
DTSTART:19701101T020000
RRULE:FREQ=YEARLY;BYMONTH=11;BYDAY=1SU
END:STANDARD
END:VTIMEZONE
BEGIN:VEVENT
UID:1464587:Event:652712
DTSTAMP:20260420T154619Z
SUMMARY:SoulHOUSE Returns
DESCRIPTION:SoulHOUSE Returns to Mercer with a night of soul, funk, di
 sco followed by deep house!!! A Key to the City Production!!!Gavin Har
 dkiss (Hardkiss Music)lovewonanother.comDJ Seven (The Unusual Suspects
 ) New Summer Mix:https://soundcloud.com/dj-seven/one-summer-night-july
 -2016Kimmy Le funk (WERD, Muka)https://soundcloud.com/kimmy-le-funkJoe
 l Conway (Housepitality)Vendors:Accessories by: Mixerfriendly.com Ra
 ffle! It's summer! Win a free waxing valued at $60.00 from http://www
 .lonnispunani.com/Accessories by GigiMoll fun clothing! www.gigimoll.
 comGet your groove on the dance floor or relax in the chill room on th
 e couches and comfy chairs!!! Gavin HardkissGreat video feature on Ha
 rdkiss's influence on the House Music Scene. Start at the 7:29 mark: 
 http://www.redbull.tv/video/AP-1M5CBHVP12111/collection/AP-1M5CBH2JN21
 11:episode/san-franciscoBio:Gavin Hardkiss is a South African born DJ 
 and music producer based in California. He makes albums under the name
  Hawke and runs a little outfit called Hardkiss Music.He was born in J
 ohannesburg South Africa. In the early 90’s, along with faux brother
 s Robbie and Scott, Gavin helped pioneer the American electronic music
  scene with the groundbreaking record label Hardkiss Music. Hardkiss q
 uickly joined the ranks of the international DJ elite, DJing at raves 
 and clubs in cities throughout the world, eventually reaching legendar
 y status with the release of the classic double album, Delusions of Gr
 andeur. Delusions of Grandeur reached number one on the Rolling Stone 
 Magazine alternative charts. Subsequently, he has produced multiple ex
 perimental albums under the guise of Hawke.Gavin Hardkiss is an electr
 onic musician, DJ, label owner, producer, remixer, author and artist. 
 He has remixed the likes of Youssou N’Dour, Mazzy Star, Elton John a
 nd Michael Franti, and performed alongside Africa Bambaataa, Derrick M
 ay, Snoop Dogg and The Buena Vista Social Club. In 2010, the song Mund
 o Via Afrika was featured on the official Sony World Cup album “Hell
 o Africa,” alongside the best of contemporary African musicians. In 
 2013 he self-published a novel titled Cubic Lust.\n\nFor more informat
 ion visit http://trueskool.com/events/soulhouse-returns
DTSTART;TZID=America/Los_Angeles:20160812T210000
DTEND;TZID=America/Los_Angeles:20160813T020000
CATEGORIES:san, francisco
LOCATION:Mercer SF
WEBSITE:http://$10 to $15
URL:http://$10 to $15
CONTACT:
ORGANIZER;CN="Keyatta Shade":http://trueskool.com/profile/KeyattaShade
ATTACH;FMTTYPE="image/jpeg":http://storage.ning.com/topology/rest/1.0/
 file/get/2247990482?profile=original
ATTENDEE;ROLE=REQ-PARTICIPANT;PARTSTAT=ACCEPTED;RSVP=TRUE;CN="Keyatta 
 Shade":http://trueskool.com/profile/KeyattaShade
END:VEVENT
END:VCALENDAR
