BEGIN:VCALENDAR
PRODID:NingEventWidget-v1
VERSION:2.0
METHOD:PUBLISH
BEGIN:VTIMEZONE
TZID:America/Los_Angeles
X-LIC-LOCATION:America/Los_Angeles
BEGIN:DAYLIGHT
TZOFFSETFROM:-0800
TZOFFSETTO:-0700
TZNAME:PDT
DTSTART:19700308T020000
RRULE:FREQ=YEARLY;BYMONTH=3;BYDAY=2SU
END:DAYLIGHT
BEGIN:STANDARD
TZOFFSETFROM:-0700
TZOFFSETTO:-0800
TZNAME:PST
DTSTART:19701101T020000
RRULE:FREQ=YEARLY;BYMONTH=11;BYDAY=1SU
END:STANDARD
END:VTIMEZONE
BEGIN:VEVENT
UID:1464587:Event:655458
DTSTAMP:20260422T023147Z
SUMMARY:SoulHOUSE Returns to Mercer SF
DESCRIPTION:SoulHOUSE returns on Saturday November 12th with a night 
 of soul, funk, disco, followed by soulful HOUSE!a key to the city/Key'
 s List productionArash Sheikh (minmal tones) (12:30-2)Wax Junkie (Pitc
 h/SF) (1130-1230)Vocal performance by the one and only AhSa-Ti Nu! (11
 -1130) a songstress who combines an amalgamation of old school soul r
 &B, classical jazz, reggae roots with a little funk on top, whose much
  anticipated album Reborn was just released.Jesse Sizmo (Lips & Rhythm
 ) (10:-1100)Ilya (9-10)vendors: accessories/posters by mixerfriendly 
 sfjewelry by Magda Loczi / LOCZIWORKS\n\n$10 to $15 at door \n\nFor m
 ore information visit http://trueskool.com/events/soulhouse-returns-to
 -mercer-sf
DTSTART;TZID=America/Los_Angeles:20161112T210000
DTEND;TZID=America/Los_Angeles:20161113T020000
CATEGORIES:soulhouse, mercer, sf
LOCATION:Mercer SF, San Francisco
WEBSITE:https://www.facebook.com/events/188660628205250
URL:https://www.facebook.com/events/188660628205250
CONTACT:
ORGANIZER;CN="Keyatta Shade":http://trueskool.com/profile/KeyattaShade
ATTACH;FMTTYPE="image/jpeg":http://storage.ning.com/topology/rest/1.0/
 file/get/2247993305?profile=original
ATTENDEE;ROLE=REQ-PARTICIPANT;PARTSTAT=ACCEPTED;RSVP=TRUE;CN="Keyatta 
 Shade":http://trueskool.com/profile/KeyattaShade
END:VEVENT
END:VCALENDAR
